BEGIN:VCALENDAR
VERSION:2.0
PRODID:-//Hermosa View &amp; Valley Parent Teacher Organization - ECPv6.15.17.1//NONSGML v1.0//EN
CALSCALE:GREGORIAN
METHOD:PUBLISH
X-ORIGINAL-URL:https://www.hvpto.com
X-WR-CALDESC:Events for Hermosa View &amp; Valley Parent Teacher Organization
REFRESH-INTERVAL;VALUE=DURATION:PT1H
X-Robots-Tag:noindex
X-PUBLISHED-TTL:PT1H
BEGIN:VTIMEZONE
TZID:America/Los_Angeles
BEGIN:DAYLIGHT
TZOFFSETFROM:-0800
TZOFFSETTO:-0700
TZNAME:PDT
DTSTART:20180311T100000
END:DAYLIGHT
BEGIN:STANDARD
TZOFFSETFROM:-0700
TZOFFSETTO:-0800
TZNAME:PST
DTSTART:20181104T090000
END:STANDARD
BEGIN:DAYLIGHT
TZOFFSETFROM:-0800
TZOFFSETTO:-0700
TZNAME:PDT
DTSTART:20190310T100000
END:DAYLIGHT
BEGIN:STANDARD
TZOFFSETFROM:-0700
TZOFFSETTO:-0800
TZNAME:PST
DTSTART:20191103T090000
END:STANDARD
BEGIN:DAYLIGHT
TZOFFSETFROM:-0800
TZOFFSETTO:-0700
TZNAME:PDT
DTSTART:20200308T100000
END:DAYLIGHT
BEGIN:STANDARD
TZOFFSETFROM:-0700
TZOFFSETTO:-0800
TZNAME:PST
DTSTART:20201101T090000
END:STANDARD
END:VTIMEZONE
BEGIN:VEVENT
DTSTART;TZID=America/Los_Angeles:20190912T180000
DTEND;TZID=America/Los_Angeles:20190912T193000
DTSTAMP:20260425T202400
CREATED:20190822T205338Z
LAST-MODIFIED:20190822T205338Z
UID:5596-1568311200-1568316600@www.hvpto.com
SUMMARY:Hidden Healthy Lunch Box Surprises by SmartFood supporting HBEF
DESCRIPTION:Are YOU ready for the kids to go back to school? Back to routines… including packing lunches. This year\, Hermosa moms chef Carrie Dodd and nutrition coach Rachel Rotabi can add some variety\, fun\, and nutrition to your lunches. Join them at their quarterly SmartFood workshop at Lazy Acres Thursday September 12 at 6 pm. A portion of proceeds will be donated to HBEF. You’ll get to sample everything and take some treats and recipes home! \nClick below to register. \nRegister Here!
URL:https://www.hvpto.com/event/hidden-healthy-lunch-box-surprises-by-smartfood-supporting-hbef/
LOCATION:Lazy Acres Natural Market\, 2510 Pacific Coast Highway\, Hermosa Beach\, CA\, 90254\, United States
CATEGORIES:Community,FUNraiser,HBEF,Hermosa Valley,Hermosa View
ATTACH;FMTTYPE=image/jpeg:https://www.hvpto.com/wp-content/uploads/2018/08/HBEF-square.jpeg
END:VEVENT
BEGIN:VEVENT
DTSTART;TZID=America/Los_Angeles:20190911T190000
DTEND;TZID=America/Los_Angeles:20190911T220000
DTSTAMP:20260425T202400
CREATED:20190716T222929Z
LAST-MODIFIED:20190716T222929Z
UID:5314-1568228400-1568239200@www.hvpto.com
SUMMARY:HBCSD September School Board Meeting
DESCRIPTION:The Hermosa Beach City School District is holding its monthly School Board meeting on Wednesday\, September 11th at 7:00pm (Closed Session starts at 6pm) in City Council Chambers located at Hermosa Beach City Hall. \nThe meetings are open\, and the public is invited to attend. \nThe school board meetings are also broadcast live on Time Warner Spectrum Channel 8 and on Frontier Channel 31. \nAgendas\, when posted\, can be found at the District’s website.
URL:https://www.hvpto.com/event/hbcsd-september-school-board-meeting/
LOCATION:Hermosa Beach City Council Chambers\, 1315 Valley Drive\, Hermosa Beach\, CA\, 90245\, United States
CATEGORIES:HBCSD,Hermosa Valley,Hermosa View,Meeting
ATTACH;FMTTYPE=image/jpeg:https://www.hvpto.com/wp-content/uploads/2018/08/SBM-EVENT.jpeg
END:VEVENT
BEGIN:VEVENT
DTSTART;TZID=America/Los_Angeles:20190910T170000
DTEND;TZID=America/Los_Angeles:20190910T183000
DTSTAMP:20260425T202400
CREATED:20190716T222150Z
LAST-MODIFIED:20190716T222150Z
UID:5313-1568134800-1568140200@www.hvpto.com
SUMMARY:View Back to School Night
DESCRIPTION:Hermosa View’s Back to School Night for 1st – 3rd Grades is on Tuesday\, September 10th. \nThe schedule according to grade is as follows: \n1st Grade: 5:00-6:00pm\n2nd Grade: 5:15-6:15pm\n3rd Grade: 5:30-6:30pm \nThis is an event for parents and caregivers only and an excellent opportunity to see the campus\, visit student/s classrooms\, meet teachers\, and get a preview of the school year. Arrive early to allow time for parking. \nHVPTO will be there with Emergency Kits and new Spirit Wear for sale so leave a few minutes before or after to stop by. \nDon’t forget that it’s a MINIMUM DAY at View. Grades 1-3 will get out at 12:20pm with all Kinders on their regular schedules.
URL:https://www.hvpto.com/event/view-back-to-school-night-2/
LOCATION:Hermosa View School\, 1800 Prospect Ave\, Hermosa Beach\, CA\, 90254\, United States
CATEGORIES:HBEF,Hermosa View,HVPTO,Meeting
ATTACH;FMTTYPE=image/jpeg:https://www.hvpto.com/wp-content/uploads/2018/08/BTSNightVIEW-GND.jpeg
END:VEVENT
BEGIN:VEVENT
DTSTART;VALUE=DATE:20190910
DTEND;VALUE=DATE:20190911
DTSTAMP:20260425T202400
CREATED:20190716T221917Z
LAST-MODIFIED:20190716T221917Z
UID:5312-1568073600-1568159999@www.hvpto.com
SUMMARY:View Minimum Day
DESCRIPTION:Hermosa View is on Minimum Day schedule to get ready for Back to School Night. \n1st – 3rd Grades get out at 12:20 PM. \nAM & PM Kinder are not affected.
URL:https://www.hvpto.com/event/view-minimum-day-3/
LOCATION:Hermosa View School\, 1800 Prospect Ave\, Hermosa Beach\, CA\, 90254\, United States
CATEGORIES:HBCSD,Hermosa View
ATTACH;FMTTYPE=image/jpeg:https://www.hvpto.com/wp-content/uploads/2018/08/MiniDayView-GND.jpeg
END:VEVENT
BEGIN:VEVENT
DTSTART;VALUE=DATE:20190905
DTEND;VALUE=DATE:20190906
DTSTAMP:20260425T202400
CREATED:20190716T221656Z
LAST-MODIFIED:20190716T221656Z
UID:5311-1567641600-1567727999@www.hvpto.com
SUMMARY:First Day of School!
DESCRIPTION:It’s finally here\, happy or sad\, let the new school year begin!
URL:https://www.hvpto.com/event/first-day-of-school-3/
LOCATION:CA
CATEGORIES:HBCSD,HBEF,Hermosa Valley,Hermosa View,HVPTO
ATTACH;FMTTYPE=image/jpeg:https://www.hvpto.com/wp-content/uploads/2018/08/1st_School-GND.jpeg
END:VEVENT
BEGIN:VEVENT
DTSTART;TZID=America/Los_Angeles:20190904T111500
DTEND;TZID=America/Los_Angeles:20190904T133000
DTSTAMP:20260425T202400
CREATED:20190716T221341Z
LAST-MODIFIED:20190816T175012Z
UID:5310-1567595700-1567603800@www.hvpto.com
SUMMARY:Staff Welcome Back Luncheon
DESCRIPTION:HVPTO hosts an annual Welcome Back Luncheon for all of our teachers and staff across our District. \nWe combine catering with donations of food\, supplies and time to help make this event a success! Please click below for the Online Sign-Up to bring something or volunteer to help the day of the event. All items need to be dropped off at the Valley lunch tables by 11am on the day of the Luncheon. \nVOLUNTEER SIGN-UP
URL:https://www.hvpto.com/event/staff-welcome-back-luncheon-2/
LOCATION:Hermosa Valley School\, 1645 Valley Drive\, Hermosa Beach\, CA\, 90254\, United States
CATEGORIES:HBCSD,Hermosa Valley,Hermosa View,HVPTO,Pitch In
ATTACH;FMTTYPE=image/jpeg:https://www.hvpto.com/wp-content/uploads/2018/07/StaffLunch-GND.jpeg
END:VEVENT
BEGIN:VEVENT
DTSTART;TZID=America/Los_Angeles:20190903T170000
DTEND;TZID=America/Los_Angeles:20190903T180000
DTSTAMP:20260425T202400
CREATED:20190716T215709Z
LAST-MODIFIED:20190716T215709Z
UID:5309-1567530000-1567533600@www.hvpto.com
SUMMARY:TK/Kinder Back to School Night
DESCRIPTION:Back to School Night for TK & Kinders is happening at View School on Tuesday\, September 3rd\, starting at 5pm.\nThis is a great time to see the campus\, visit your student/s classroom\, meet teachers\, and get a preview of the school year the night before school starts. \nHVPTO will be there with Emergency Kits and new Spirit Wear for sale so leave a few minutes before or after to stop by. \nThis is an event for parents/guardians only! Arrive early to allow time for parking.
URL:https://www.hvpto.com/event/tk-kinder-back-to-school-night-2/
LOCATION:Hermosa View School\, 1800 Prospect Ave\, Hermosa Beach\, CA\, 90254\, United States
CATEGORIES:HBCSD,HBEF,Hermosa View,HVPTO,Meeting
ATTACH;FMTTYPE=image/jpeg:https://www.hvpto.com/wp-content/uploads/2018/08/BTSNKinder.jpeg
END:VEVENT
BEGIN:VEVENT
DTSTART;TZID=America/Los_Angeles:20190831T090000
DTEND;TZID=America/Los_Angeles:20190902T170000
DTSTAMP:20260425T202400
CREATED:20190715T222836Z
LAST-MODIFIED:20190816T174850Z
UID:5308-1567242000-1567443600@www.hvpto.com
SUMMARY:Labor Day Parking Lot Fundraiser
DESCRIPTION:Help HVPTO sell parking spots at Valley School Saturday – Monday over Labor Day Weekend! \nVolunteers work easy 2-hour shifts\, collecting cash and pointing drivers to open parking spots. Our Labor Day & Memorial Day Parking Lot Weekend events combine to be one of our top fundraisers of the year. \nMiddle school students earn 4 service points working a shift with a parent. \nClick below sign up for a shift. \nVOLUNTEER SIGN-UP
URL:https://www.hvpto.com/event/labor-day-parking-lot-fundraiser-2/
LOCATION:Hermosa Valley School\, 1645 Valley Drive\, Hermosa Beach\, CA\, 90254\, United States
CATEGORIES:Community,Hermosa Valley,Hermosa View,HVPTO,Pitch In
ATTACH;FMTTYPE=image/jpeg:https://www.hvpto.com/wp-content/uploads/2018/08/Parking-Sept-EVENT.jpeg
END:VEVENT
BEGIN:VEVENT
DTSTART;TZID=America/Los_Angeles:20190814T190000
DTEND;TZID=America/Los_Angeles:20190814T220000
DTSTAMP:20260425T202400
CREATED:20190715T221912Z
LAST-MODIFIED:20190715T221912Z
UID:5306-1565809200-1565820000@www.hvpto.com
SUMMARY:HBCSD August School Board Meeting
DESCRIPTION:The Hermosa Beach City School District is holding its monthly School Board meeting on Wednesday\, August 14th at 7:00pm (closed Session starts at 6pm) in City Council Chambers located at Hermosa Beach City Hall. \nThe meetings are open\, and the public is invited to attend. The school board meetings are also broadcast live on Time Warner Spectrum Channel 8 and on Frontier Channel 31. \nAgendas\, when posted\, can be found at the District’s website.
URL:https://www.hvpto.com/event/hbcsd-august-school-board-meeting/
LOCATION:Hermosa Beach City Council Chambers\, 1315 Valley Drive\, Hermosa Beach\, CA\, 90245\, United States
CATEGORIES:HBCSD,Hermosa Valley,Hermosa View,Meeting
ATTACH;FMTTYPE=image/jpeg:https://www.hvpto.com/wp-content/uploads/2018/08/SBM-EVENT.jpeg
END:VEVENT
BEGIN:VEVENT
DTSTART;TZID=America/Los_Angeles:20190808T180000
DTEND;TZID=America/Los_Angeles:20190808T210000
DTSTAMP:20260425T202400
CREATED:20190808T191333Z
LAST-MODIFIED:20190814T192327Z
UID:5524-1565287200-1565298000@www.hvpto.com
SUMMARY:HVPTO Volunteer Mixer
DESCRIPTION:Great events don’t just happen – we need volunteers to help make them come to life! All View and Valley parents are invited to join us and find out how YOU can help HVPTO put on events that create long-lasting memories\, as well as raise money for essential needs\, supplies\, and activities that all benefit all our students.
URL:https://www.hvpto.com/event/hvptohbef-volunteer-mixer/
LOCATION:Uncorked\, 302 Pier Ave\, Hermosa Beach\, CA\, 90254\, United States
CATEGORIES:Community,HBEF,Hermosa Valley,Hermosa View,HVPTO,Meeting,Parents' Night Out
END:VEVENT
BEGIN:VEVENT
DTSTART;TZID=America/Los_Angeles:20190724T180000
DTEND;TZID=America/Los_Angeles:20190724T203000
DTSTAMP:20260425T202400
CREATED:20190715T181011Z
LAST-MODIFIED:20190716T194538Z
UID:5299-1563991200-1564000200@www.hvpto.com
SUMMARY:Special School Board Meeting
DESCRIPTION:The next special school board meeting takes place in the Hermosa Beach City Hall on Wednesday\, July 24\, 2019. \nHBCSD’s special school board meetings are open to the public and residents are given an opportunity to voice their comments regarding an agenda item or any other business directly to the board. This meeting will open at 6:00pm for public comment on the Closed Session items; no Open Session items are scheduled. \nThe school board meetings are also broadcast live on Time Warner Spectrum Channel 8 and on Frontier Channel 31. \nYou can learn more about Hermosa Beach school board meetings\, and view prior agendas HERE. The agenda for this meeting will also be posted there 72 hours prior to the meeting. \nFor more information\, please contact the District Office at (310) 937-5877 ext. 258.
URL:https://www.hvpto.com/event/special-school-board-meeting-3/
LOCATION:Hermosa Beach Community Center\, 710 Pier Avenue\, Hermosa Beach\, CA\, 90254\, United States
CATEGORIES:HBCSD,Hermosa Valley,Hermosa View,Meeting
ATTACH;FMTTYPE=image/jpeg:https://www.hvpto.com/wp-content/uploads/2018/08/SBM-EVENT.jpeg
END:VEVENT
BEGIN:VEVENT
DTSTART;TZID=America/Los_Angeles:20190710T190000
DTEND;TZID=America/Los_Angeles:20190710T220000
DTSTAMP:20260425T202400
CREATED:20190715T221253Z
LAST-MODIFIED:20190715T221253Z
UID:5305-1562785200-1562796000@www.hvpto.com
SUMMARY:HBCSD July School Board Meeting
DESCRIPTION:The Hermosa Beach City School District is holding its monthly School Board meeting on Wednesday\, July 10th at 7:00pm (closed Session starts at 6pm) in City Council Chambers located at Hermosa Beach City Hall. \nThe meetings are open\, and the public is invited to attend. The school board meetings are also broadcast live on Time Warner Spectrum Channel 8 and on Frontier Channel 31. \nAgendas\, when posted\, can be found at the District’s website.
URL:https://www.hvpto.com/event/hbcsd-july-school-board-meeting/
LOCATION:Hermosa Beach City Council Chambers\, 1315 Valley Drive\, Hermosa Beach\, CA\, 90245\, United States
CATEGORIES:HBCSD,Hermosa Valley,Hermosa View,Meeting
ATTACH;FMTTYPE=image/jpeg:https://www.hvpto.com/wp-content/uploads/2018/08/SBM-EVENT.jpeg
END:VEVENT
END:VCALENDAR