BEGIN:VCALENDAR
VERSION:2.0
PRODID:-//Hermosa View &amp; Valley Parent Teacher Organization - ECPv6.15.17.1//NONSGML v1.0//EN
CALSCALE:GREGORIAN
METHOD:PUBLISH
X-ORIGINAL-URL:https://www.hvpto.com
X-WR-CALDESC:Events for Hermosa View &amp; Valley Parent Teacher Organization
REFRESH-INTERVAL;VALUE=DURATION:PT1H
X-Robots-Tag:noindex
X-PUBLISHED-TTL:PT1H
BEGIN:VTIMEZONE
TZID:America/Los_Angeles
BEGIN:DAYLIGHT
TZOFFSETFROM:-0800
TZOFFSETTO:-0700
TZNAME:PDT
DTSTART:20190310T100000
END:DAYLIGHT
BEGIN:STANDARD
TZOFFSETFROM:-0700
TZOFFSETTO:-0800
TZNAME:PST
DTSTART:20191103T090000
END:STANDARD
BEGIN:DAYLIGHT
TZOFFSETFROM:-0800
TZOFFSETTO:-0700
TZNAME:PDT
DTSTART:20200308T100000
END:DAYLIGHT
BEGIN:STANDARD
TZOFFSETFROM:-0700
TZOFFSETTO:-0800
TZNAME:PST
DTSTART:20201101T090000
END:STANDARD
BEGIN:DAYLIGHT
TZOFFSETFROM:-0800
TZOFFSETTO:-0700
TZNAME:PDT
DTSTART:20210314T100000
END:DAYLIGHT
BEGIN:STANDARD
TZOFFSETFROM:-0700
TZOFFSETTO:-0800
TZNAME:PST
DTSTART:20211107T090000
END:STANDARD
BEGIN:DAYLIGHT
TZOFFSETFROM:-0800
TZOFFSETTO:-0700
TZNAME:PDT
DTSTART:20220313T100000
END:DAYLIGHT
BEGIN:STANDARD
TZOFFSETFROM:-0700
TZOFFSETTO:-0800
TZNAME:PST
DTSTART:20221106T090000
END:STANDARD
END:VTIMEZONE
BEGIN:VEVENT
DTSTART;VALUE=DATE:20201221
DTEND;VALUE=DATE:20210102
DTSTAMP:20260425T042011
CREATED:20200809T015535Z
LAST-MODIFIED:20200809T015535Z
UID:59106-1608508800-1609545599@www.hvpto.com
SUMMARY:NO SCHOOL - WINTER BREAK
DESCRIPTION:There is no school\, virtual or otherwise\, from December 21 – January 1. See you back after the New Year on January 4th!
URL:https://www.hvpto.com/event/no-school-winter-break-4/
CATEGORIES:HBCSD,Hermosa Valley,Hermosa View
ATTACH;FMTTYPE=image/jpeg:https://www.hvpto.com/wp-content/uploads/2018/10/winter.jpeg
END:VEVENT
BEGIN:VEVENT
DTSTART;TZID=America/Los_Angeles:20201209T180000
DTEND;TZID=America/Los_Angeles:20201209T220000
DTSTAMP:20260425T042011
CREATED:20200809T015434Z
LAST-MODIFIED:20200809T015434Z
UID:59105-1607536800-1607551200@www.hvpto.com
SUMMARY:HBCSD December School Board Meeting
DESCRIPTION:The Hermosa Beach City School District is holding its monthly School Board meeting on Wednesday\, October 9th at 7:00pm (Closed Session starts at 6pm) in City Council Chambers located at Hermosa Beach City Hall. The meetings are open\, and the public is invited to attend. The school board meetings are also broadcast live on Time Warner Spectrum Channel 8 and on Frontier Channel 31. Agendas\, when posted\, can be found at the District’s website. \nHBCSD Meeting Information & AgendasCity of Hermosa Beach Agendas & Videos
URL:https://www.hvpto.com/event/hbcsd-december-school-board-meeting-2/
CATEGORIES:HBCSD,Hermosa Valley,Hermosa View,Meeting
ATTACH;FMTTYPE=image/jpeg:https://www.hvpto.com/wp-content/uploads/2018/08/SBM-EVENT.jpeg
END:VEVENT
BEGIN:VEVENT
DTSTART;TZID=America/Los_Angeles:20201208T090000
DTEND;TZID=America/Los_Angeles:20201208T100000
DTSTAMP:20260425T042011
CREATED:20210105T003609Z
LAST-MODIFIED:20210105T003609Z
UID:60083-1607418000-1607421600@www.hvpto.com
SUMMARY:SBFC Parent Series - Managing the Emotions of Distance Learning
DESCRIPTION:Please join South Bay Families Connected & Hermosa Beach City School District for Part 1 of a new Parent Series with guest speaker Dr. Moe Gelbart. Today’s is a virtual presentation on Managing the Emotions of Distance Learning: Parenting in 2020. Click below for more info. \nSouth Bay Families Connected – HBCSD Website
URL:https://www.hvpto.com/event/sbfc-parent-series-managing-the-emotions-of-distance-learning/
CATEGORIES:Community,HBCSD,Hermosa Valley,Hermosa View,Meeting,South Bay Families Connected
ATTACH;FMTTYPE=image/png:https://www.hvpto.com/wp-content/uploads/2019/10/SBFC-Logo.png
ORGANIZER;CN="South Bay Families Connected":MAILTO:SouthBayFamiliesConnected@gmail.com
END:VEVENT
BEGIN:VEVENT
DTSTART;TZID=America/Los_Angeles:20201207T183000
DTEND;TZID=America/Los_Angeles:20201207T220000
DTSTAMP:20260425T042011
CREATED:20210824T203500Z
LAST-MODIFIED:20210824T203500Z
UID:60082-1607365800-1607378400@www.hvpto.com
SUMMARY:HBCSD Special School Board Meeting - December 7th
DESCRIPTION:The Hermosa Beach City School District is holding a Special School Board meeting on December 7th at 6:30pm. To abide by the County Public Health Order\, meetings are being held virtually and can be viewed live on Time Warner Spectrum Channel 8\, Frontier Channel 31\, HBCSD’s Facebook page\, and at hermosabeach.gov under “Agendas/Videos.” Meeting agenda’s are posted on the District and City websites. Please visit hbcsd.org for information on how to participate in public comment at this time.
URL:https://www.hvpto.com/event/hbcsd-special-school-board-meeting-december-7th/
LOCATION:Online / TV
CATEGORIES:HBCSD,Hermosa Valley,Hermosa View,Meeting
ATTACH;FMTTYPE=image/jpeg:https://www.hvpto.com/wp-content/uploads/2020/08/SpecialSBMtg.jpg
END:VEVENT
BEGIN:VEVENT
DTSTART;VALUE=DATE:20201204
DTEND;VALUE=DATE:20201205
DTSTAMP:20260425T042011
CREATED:20200826T200611Z
LAST-MODIFIED:20200826T200611Z
UID:59104-1607040000-1607126399@www.hvpto.com
SUMMARY:Last Day of 1st Trimester
DESCRIPTION:Friday\, December 4th is the last day of the 1st Trimester. Trimester 2 starts on Monday\, December 7th and runs until March 19th.
URL:https://www.hvpto.com/event/last-day-of-1st-trimester/
CATEGORIES:HBCSD,Hermosa Valley,Hermosa View
ATTACH;FMTTYPE=image/jpeg:https://www.hvpto.com/wp-content/uploads/2020/08/end-trimester.jpeg
END:VEVENT
BEGIN:VEVENT
DTSTART;VALUE=DATE:20201123
DTEND;VALUE=DATE:20201128
DTSTAMP:20260425T042011
CREATED:20200809T015308Z
LAST-MODIFIED:20200809T015308Z
UID:59103-1606089600-1606521599@www.hvpto.com
SUMMARY:NO SCHOOL - THANKSGIVING WEEK
DESCRIPTION:There is no school\, virtual or otherwise\, from November 23 – 27.
URL:https://www.hvpto.com/event/no-school-thanksgiving-week/
CATEGORIES:HBCSD,Hermosa Valley,Hermosa View
ATTACH;FMTTYPE=image/jpeg:https://www.hvpto.com/wp-content/uploads/2018/10/thanksgiving.jpeg
END:VEVENT
BEGIN:VEVENT
DTSTART;TZID=America/Los_Angeles:20201119T173000
DTEND;TZID=America/Los_Angeles:20201119T190000
DTSTAMP:20260425T042011
CREATED:20210824T233801Z
LAST-MODIFIED:20210824T233801Z
UID:60081-1605807000-1605812400@www.hvpto.com
SUMMARY:HBCSD Q&A on TK-2 Reopening
DESCRIPTION:Hermosa Beach City School District is holding a Virtual Q&A to discuss the Reopening of TK-2 grades on Thursday\, November 19th at 5:30PM. \nYou can watch the event live on Time Warner Cable Channel 8\, Frontier Channel 31\, at the City’s website under “Agendas/Videos” or on Facebook.com @HBCSD
URL:https://www.hvpto.com/event/hbcsd-qa-on-tk-2-reopening/
LOCATION:Online / TV
CATEGORIES:HBCSD,Hermosa Valley,Hermosa View,Meeting
ATTACH;FMTTYPE=image/jpeg:https://www.hvpto.com/wp-content/uploads/2020/08/VTHHBCSD.jpg
END:VEVENT
BEGIN:VEVENT
DTSTART;VALUE=DATE:20201116
DTEND;VALUE=DATE:20201202
DTSTAMP:20260425T042011
CREATED:20210824T204902Z
LAST-MODIFIED:20210824T204902Z
UID:60080-1605484800-1606867199@www.hvpto.com
SUMMARY:HBEF's Gum Tree Santa Photos
DESCRIPTION:Head over to hbef.org to purchase your 2020 Gum Tree photo with Santa! \nEmail your high resolution image and an HBEF volunteer will place you with Santa virtually in a frame. Cost is $20 and benefits HBEF! \nGet your 2020 COVID-Safe Santa Photos now!
URL:https://www.hvpto.com/event/hbefs-gum-tree-santa-photos-3/
CATEGORIES:Community,FUNraiser,HBEF,Hermosa Valley,Hermosa View
ATTACH;FMTTYPE=image/jpeg:https://www.hvpto.com/wp-content/uploads/2020/11/Santa-Photos-2020.jpg
END:VEVENT
BEGIN:VEVENT
DTSTART;VALUE=DATE:20201113
DTEND;VALUE=DATE:20201207
DTSTAMP:20260425T042011
CREATED:20210824T233407Z
LAST-MODIFIED:20210824T233407Z
UID:60079-1605225600-1607299199@www.hvpto.com
SUMMARY:Scholastic Online Book Fair
DESCRIPTION:HVPTO is proud to sponsor a District-wide BOOK FAIR with Scholastic this fall – and this year it’s all online. Order for the reader in your house\, order for the Holidays\, order for yourself – and help out our Schools at the same time!
URL:https://www.hvpto.com/event/scholastic-online-book-fair/
CATEGORIES:Community,FUNraiser,Hermosa Valley,Hermosa View,HVPTO
ATTACH;FMTTYPE=image/jpeg:https://www.hvpto.com/wp-content/uploads/2021/08/Book-Fair-Online.jpeg
END:VEVENT
BEGIN:VEVENT
DTSTART;VALUE=DATE:20201111
DTEND;VALUE=DATE:20201112
DTSTAMP:20260425T042011
CREATED:20200809T015155Z
LAST-MODIFIED:20200809T015155Z
UID:59102-1605052800-1605139199@www.hvpto.com
SUMMARY:NO SCHOOL - VETERANS' DAY
DESCRIPTION:There is no school\, virtual or otherwise\, on November 11th in honor of Veterans’ Day.
URL:https://www.hvpto.com/event/no-school-veterans-day-4/
CATEGORIES:HBCSD,Hermosa Valley,Hermosa View
ATTACH;FMTTYPE=image/jpeg:https://www.hvpto.com/wp-content/uploads/2018/08/vetday.jpeg
END:VEVENT
BEGIN:VEVENT
DTSTART;TZID=America/Los_Angeles:20201110T190000
DTEND;TZID=America/Los_Angeles:20201110T210000
DTSTAMP:20260425T042011
CREATED:20200809T015029Z
LAST-MODIFIED:20200809T015029Z
UID:59101-1605034800-1605042000@www.hvpto.com
SUMMARY:HVPTO+HBEF November Joint General Meeting
DESCRIPTION:All are invited to attend the November HVPTO+HBEF Joint Board Meeting of the year! Please join us and learn how our two organizations work together with both schools and HBCSD to enrich the learning environment for all HVS students. The meeting will be held via Zoom – please keep an eye on your email for the link to join!
URL:https://www.hvpto.com/event/hvptohbef-november-joint-general-meeting-2/
CATEGORIES:HBEF,Hermosa Valley,Hermosa View,HVPTO,Meeting
END:VEVENT
BEGIN:VEVENT
DTSTART;TZID=America/Los_Angeles:20201109T180000
DTEND;TZID=America/Los_Angeles:20201109T220000
DTSTAMP:20260425T042011
CREATED:20200809T014945Z
LAST-MODIFIED:20200809T014945Z
UID:59100-1604944800-1604959200@www.hvpto.com
SUMMARY:HBCSD November School Board Meeting
DESCRIPTION:The Hermosa Beach City School District is holding its monthly School Board meeting on Monday\, November 9th at 6:00pm (Closed Session starts at 5pm). This month’s meeting has been moved to Monday due to the Veterans’ Day Holiday falling on the normal Wednesday meeting day. To abide by the County Public Health Order\, meetings are being held virtually and can be viewed live on Time Warner Spectrum Channel 8\, Frontier Channel 31\, and at the hermosabeach.gov under “Agendas/Videos.” Meeting agenda’s are posted on the District and City websites. Please visit hbcsd.org for information on how to participate in public comment at this time. \nHBCSD Meeting Information & AgendasCity of Hermosa Beach Agendas & Videos
URL:https://www.hvpto.com/event/hbcsd-november-school-board-meeting-2/
CATEGORIES:HBCSD,Hermosa Valley,Hermosa View,Meeting
ATTACH;FMTTYPE=image/jpeg:https://www.hvpto.com/wp-content/uploads/2018/08/SBM-EVENT.jpeg
END:VEVENT
BEGIN:VEVENT
DTSTART;VALUE=DATE:20201102
DTEND;VALUE=DATE:20201107
DTSTAMP:20260425T042011
CREATED:20210824T204250Z
LAST-MODIFIED:20210824T204250Z
UID:60078-1604275200-1604707199@www.hvpto.com
SUMMARY:Operation Gratitude Candy Drive
DESCRIPTION:HVPTO is proud to again join Operation Gratitude in collecting leftover Halloween Candy for our Troops. \nThis year HVPTO has been partnered with a local National Guard unit – we will deliver all the candy you don’t want for our local soldiers to enjoy!
URL:https://www.hvpto.com/event/operation-gratitude-candy-drive-2/
CATEGORIES:Community,Hermosa Valley,Hermosa View,HVPTO
END:VEVENT
BEGIN:VEVENT
DTSTART;TZID=America/Los_Angeles:20201030T133000
DTEND;TZID=America/Los_Angeles:20201030T153000
DTSTAMP:20260425T042011
CREATED:20210824T233631Z
LAST-MODIFIED:20210824T233631Z
UID:60077-1604064600-1604071800@www.hvpto.com
SUMMARY:Hermosa View Halloween Car Parade
DESCRIPTION:Think all of the traditional fun has been taken out of Halloween? Well\, think again! The amazing Principal Scott and his awesome team of teachers want students and their parents to let their inner ghosts and goblins shine on Friday\, Ocotber 30th. Decorate yourselves and your car and parade through the Hermosa View lower parking lot between 1:30 and 3:30 pm. Masks are required and creativity is encouraged!
URL:https://www.hvpto.com/event/hermosa-view-halloween-car-parade/
LOCATION:Hermosa View School\, 1800 Prospect Ave\, Hermosa Beach\, CA\, 90254\, United States
CATEGORIES:HBCSD,Hermosa Valley,Hermosa View,HVPTO
ATTACH;FMTTYPE=image/jpeg:https://www.hvpto.com/wp-content/uploads/2021/01/Car-Parade-2020.jpeg
END:VEVENT
BEGIN:VEVENT
DTSTART;TZID=America/Los_Angeles:20201028T170000
DTEND;TZID=America/Los_Angeles:20201028T183000
DTSTAMP:20260425T042011
CREATED:20210824T233023Z
LAST-MODIFIED:20210824T233023Z
UID:60075-1603904400-1603909800@www.hvpto.com
SUMMARY:HBCSD State of Education
DESCRIPTION:Hermosa Beach City School District is holding “The State of Education Address: Connecting Together\, Apart” on Wednesday\, October 28th at 5:00 PM. You can watch the event live on Time Warner Cable Channel 8\, Frontier Channel 31\, at the City website under “Agendas/Videos\,” or on Facebook.com @HBCSD
URL:https://www.hvpto.com/event/hbcsd-state-of-education/
LOCATION:Online / TV
CATEGORIES:HBCSD,Hermosa Valley,Hermosa View,Meeting
ATTACH;FMTTYPE=image/jpeg:https://www.hvpto.com/wp-content/uploads/2018/09/District-Logo-Square.jpeg
END:VEVENT
BEGIN:VEVENT
DTSTART;VALUE=DATE:20201028
DTEND;VALUE=DATE:20201030
DTSTAMP:20260425T042011
CREATED:20210824T233145Z
LAST-MODIFIED:20210824T233145Z
UID:60076-1603843200-1604015999@www.hvpto.com
SUMMARY:BOO BAG Pick Up
DESCRIPTION:Did you order one of the first ever HVPTO-Sponsored BOO Bags to treat your friends and neighbors this year? \nIf so\, make sure to pick up at the View School valet line on October 28 & 29th!
URL:https://www.hvpto.com/event/boo-bag-pick-up/
LOCATION:Hermosa View School\, 1800 Prospect Ave\, Hermosa Beach\, CA\, 90254\, United States
CATEGORIES:Community,FUNraiser,Hermosa Valley,Hermosa View,HVPTO
ATTACH;FMTTYPE=image/jpeg:https://www.hvpto.com/wp-content/uploads/2020/10/untitled-2020-10-09T111521.983.jpeg
END:VEVENT
BEGIN:VEVENT
DTSTART;TZID=America/Los_Angeles:20201026T180000
DTEND;TZID=America/Los_Angeles:20201026T220000
DTSTAMP:20260425T042011
CREATED:20210824T232739Z
LAST-MODIFIED:20210824T232739Z
UID:60074-1603735200-1603749600@www.hvpto.com
SUMMARY:HBCSD Special School Board Meeting - October 26th
DESCRIPTION:The Hermosa Beach City School District is holding a Special School Board meeting on Monday\, October 26th at 6:00pm (Closed Session starts at 5pm). To abide by the County Public Health Order\, meetings are being held virtually and can be viewed live on Time Warner Spectrum Channel 8\, Frontier Channel 31\, HBCSD’s Facebook page\, and at hermosabeach.gov under “Agendas/Videos.” Meeting agenda’s are posted on the District and City websites. Please visit hbcsd.org for information on how to participate in public comment at this time.
URL:https://www.hvpto.com/event/hbcsd-special-school-board-meeting-october-26th/
CATEGORIES:HBCSD,Hermosa Valley,Hermosa View,Meeting
ATTACH;FMTTYPE=image/jpeg:https://www.hvpto.com/wp-content/uploads/2020/08/SpecialSBMtg.jpg
END:VEVENT
BEGIN:VEVENT
DTSTART;VALUE=DATE:20201026
DTEND;VALUE=DATE:20201031
DTSTAMP:20260425T042011
CREATED:20210824T232509Z
LAST-MODIFIED:20210824T232509Z
UID:60073-1603670400-1604102399@www.hvpto.com
SUMMARY:Red Ribbon Week
DESCRIPTION:Living a healthy lifestyle\, coupled with making mindful choices in the District-wide focus for HBCSD’s Red Ribbn Week!
URL:https://www.hvpto.com/event/red-ribbon-week-4/
CATEGORIES:Community,HBCSD,Hermosa Valley,Hermosa View
ATTACH;FMTTYPE=image/jpeg:https://www.hvpto.com/wp-content/uploads/2018/10/RedRibbonWeek.jpeg
END:VEVENT
BEGIN:VEVENT
DTSTART;TZID=America/Los_Angeles:20201025T080000
DTEND;TZID=America/Los_Angeles:20201025T120000
DTSTAMP:20260425T042011
CREATED:20200809T014753Z
LAST-MODIFIED:20200809T014753Z
UID:59099-1603612800-1603627200@www.hvpto.com
SUMMARY:Skechers Pier-to-Pier Friendship Walk Supporting HBEF
DESCRIPTION:Please visit hbef.org for more information or click below to register. \nOnce on Skechers Registration page\, click “Education” and then “Join Existing Team.”  You can search by Hermosa View or Hermosa Valley or search for your Teacher’s name! \nVisit HBEFRegister for Skechers Walk
URL:https://www.hvpto.com/event/skechers-pier-to-pier-friendship-walk-supporting-hbef-4/
CATEGORIES:HBEF,Hermosa Valley,Hermosa View
ATTACH;FMTTYPE=image/jpeg:https://www.hvpto.com/wp-content/uploads/2020/08/Skechers-2020.jpeg
END:VEVENT
BEGIN:VEVENT
DTSTART;TZID=America/Los_Angeles:20201014T180000
DTEND;TZID=America/Los_Angeles:20201014T220000
DTSTAMP:20260425T042011
CREATED:20200809T014021Z
LAST-MODIFIED:20200809T014021Z
UID:59096-1602698400-1602712800@www.hvpto.com
SUMMARY:HBCSD October School Board Meeting
DESCRIPTION:The Hermosa Beach City School District is holding its monthly School Board meeting on Wednesday\, October 14th at 6:00pm (Closed Session starts at 5pm). To abide by the County Public Health Order\, meetings are being held virtually and can be viewed live on Time Warner Spectrum Channel 8\, Frontier Channel 31\, and at the hermosabeach.gov under “Agendas/Videos.” Meeting agenda’s are posted on the District and City websites. Please visit hbcsd.org for information on how to participate in public comment at this time. \nHBCSD Meeting Information & AgendasCity of Hermosa Beach Agendas & Videos
URL:https://www.hvpto.com/event/hbcsd-october-school-board-meeting-2/
CATEGORIES:HBCSD,Hermosa Valley,Hermosa View,Meeting
ATTACH;FMTTYPE=image/jpeg:https://www.hvpto.com/wp-content/uploads/2018/08/SBM-EVENT.jpeg
END:VEVENT
BEGIN:VEVENT
DTSTART;VALUE=DATE:20201002
DTEND;VALUE=DATE:20201003
DTSTAMP:20260425T042011
CREATED:20200910T042008Z
LAST-MODIFIED:20200910T042008Z
UID:59302-1601596800-1601683199@www.hvpto.com
SUMMARY:National Custodian Appreciation Day
DESCRIPTION:Help us celebrate the HVS crew that keeps our schools clean\, well-maintained and running smoothly!
URL:https://www.hvpto.com/event/national-custodian-appreciation-day-2/
LOCATION:All District Campuses\, CA\, 90254\, United States
CATEGORIES:Community,HBCSD,Hermosa Valley,Hermosa View,HVPTO
ATTACH;FMTTYPE=image/jpeg:https://www.hvpto.com/wp-content/uploads/2019/07/CustodianDay.jpeg
END:VEVENT
BEGIN:VEVENT
DTSTART;TZID=America/Los_Angeles:20200930T170000
DTEND;TZID=America/Los_Angeles:20200930T200000
DTSTAMP:20260425T042011
CREATED:20200922T031319Z
LAST-MODIFIED:20200922T031319Z
UID:59465-1601485200-1601496000@www.hvpto.com
SUMMARY:HBCSD Special School Board Meeting - September 30
DESCRIPTION:The Hermosa Beach City School District is holding a Special School Board meeting on Wednesday\, September 30th at 6:00 pm (Closed session to start at 5:00 pm). To abide by the County Public Health Order\, meetings are being held virtually and can be viewed live on Time Warner Spectrum Channel 8\, Frontier Channel 31\, Facebook Live\, and at hermosabeach.gov under “Agendas/Videos.” Meeting agendas are posted on the District and City websites. Please visit hbcsd.org for information on how to participate in public comment at this time. \nHBCSD Meeting Information & AgendasCity of Hermosa Beach Agendas & Videos
URL:https://www.hvpto.com/event/hbcsd-special-school-board-meeting-september-30/
LOCATION:Online / TV
CATEGORIES:HBCSD,Hermosa Valley,Hermosa View,Meeting
ATTACH;FMTTYPE=image/jpeg:https://www.hvpto.com/wp-content/uploads/2020/08/SpecialSBMtg.jpg
END:VEVENT
BEGIN:VEVENT
DTSTART;VALUE=DATE:20200928
DTEND;VALUE=DATE:20200929
DTSTAMP:20260425T042011
CREATED:20200809T013518Z
LAST-MODIFIED:20200809T013518Z
UID:59095-1601251200-1601337599@www.hvpto.com
SUMMARY:NO SCHOOL - LOCAL RELEASE
DESCRIPTION:There is no school\, virtual or otherwise\, on September 28th.
URL:https://www.hvpto.com/event/no-school-local-release/
CATEGORIES:HBCSD,Hermosa Valley,Hermosa View
ATTACH;FMTTYPE=image/jpeg:https://www.hvpto.com/wp-content/uploads/2018/08/NoSchool-GND.jpeg
END:VEVENT
BEGIN:VEVENT
DTSTART;TZID=America/Los_Angeles:20200924T100000
DTEND;TZID=America/Los_Angeles:20200924T110000
DTSTAMP:20260425T042011
CREATED:20200918T203404Z
LAST-MODIFIED:20200918T203404Z
UID:59338-1600941600-1600945200@www.hvpto.com
SUMMARY:TK- 5th Grade Room Parent Meeting
DESCRIPTION:If you signed up to be the Room Parent for your child’s TK – 5th Grade Class\, please join us at a relaxed meeting for our 20-21 Room Parents. Learn all the essential info to get your year started off right.
URL:https://www.hvpto.com/event/tk-5th-grade-room-parent-meeting/
LOCATION:Zoom
CATEGORIES:HBCSD,HBEF,Hermosa Valley,Hermosa View,HVPTO,Meeting
ATTACH;FMTTYPE=image/jpeg:https://www.hvpto.com/wp-content/uploads/2020/09/ROOM-Parent-Gen.jpeg
END:VEVENT
BEGIN:VEVENT
DTSTART;TZID=America/Los_Angeles:20200923T170000
DTEND;TZID=America/Los_Angeles:20200923T200000
DTSTAMP:20260425T042011
CREATED:20200922T030715Z
LAST-MODIFIED:20200922T031009Z
UID:59462-1600880400-1600891200@www.hvpto.com
SUMMARY:HBCSD Special School Board Meeting - September 23
DESCRIPTION:The Hermosa Beach City School District is holding a Special School Board meeting on Wednesday\, September 23rd at 5:00 pm. To abide by the County Public Health Order\, meetings are being held virtually and can be viewed live on Time Warner Spectrum Channel 8\, Frontier Channel 31\, Facebook Live\, and at hermosabeach.gov under “Agendas/Videos.” Meeting agendas are posted on the District and City websites. Please visit hbcsd.org for information on how to participate in public comment at this time. \nHBCSD Meeting Information & AgendasCity of Hermosa Beach Agendas & Videos
URL:https://www.hvpto.com/event/hbcsd-special-school-board-meeting-september-23/
LOCATION:Online / TV
CATEGORIES:HBCSD,Hermosa Valley,Hermosa View,Meeting
ATTACH;FMTTYPE=image/jpeg:https://www.hvpto.com/wp-content/uploads/2020/08/SpecialSBMtg.jpg
END:VEVENT
BEGIN:VEVENT
DTSTART;TZID=America/Los_Angeles:20200922T190000
DTEND;TZID=America/Los_Angeles:20200922T210000
DTSTAMP:20260425T042011
CREATED:20200809T013352Z
LAST-MODIFIED:20200902T205501Z
UID:59094-1600801200-1600808400@www.hvpto.com
SUMMARY:HVPTO+HBEF September Joint General Meeting
DESCRIPTION:All are invited to attend the first HVPTO+HBEF Joint Board Meeting of the year! Please join us and learn how our two organizations work together with both schools and HBCSD to enrich the learning environment for all HVS students. The meeting will be held via Zoom – please keep an eye on your email for the link to join!
URL:https://www.hvpto.com/event/hvptohbef-september-joint-general-meeting-2/
CATEGORIES:HBEF,Hermosa Valley,Hermosa View,HVPTO,Meeting
END:VEVENT
BEGIN:VEVENT
DTSTART;TZID=America/Los_Angeles:20200922T080000
DTEND;TZID=America/Los_Angeles:20200922T150000
DTSTAMP:20260425T042011
CREATED:20200907T234534Z
LAST-MODIFIED:20200910T013822Z
UID:59259-1600761600-1600786800@www.hvpto.com
SUMMARY:VIEW Materials Pick Up
DESCRIPTION:On Tuesday\, September 15\, VIEW students’ 1st Trimester school materials (Textbooks\, etc) will be available for pick up from 8 am – 3 pm. \nWe will be observing COVID-19 precautions – this is a Drive-Thru Pick Up and please wear your mask.\n \nWe are in need of volunteers to help (adults only; students/children should not attend with you)! Click below! \nClick to VOLUNTEER!
URL:https://www.hvpto.com/event/view-materials-pick-up/
LOCATION:Hermosa View School\, 1800 Prospect Ave\, Hermosa Beach\, CA\, 90254\, United States
CATEGORIES:HBCSD,Hermosa View,HVPTO,Pitch In
ATTACH;FMTTYPE=image/jpeg:https://www.hvpto.com/wp-content/uploads/2020/09/MaterialsPickUp.jpeg
END:VEVENT
BEGIN:VEVENT
DTSTART;TZID=America/Los_Angeles:20200915T170000
DTEND;TZID=America/Los_Angeles:20200915T191500
DTSTAMP:20260425T042011
CREATED:20200907T235722Z
LAST-MODIFIED:20200907T235722Z
UID:59262-1600189200-1600197300@www.hvpto.com
SUMMARY:VIEW Back to School Night
DESCRIPTION:Hermosa View’s Back to School Night for TK – 3rd Grades is on Tuesday\, September 15th. \nThe schedule according to grade is as follows: \nTK/Kinder: 5:00-5:45pm\n1st Grade: 5:30-6:15pm\n2nd Grade: 6:00-6:45pm\n3rd Grade: 6:30-7:15pm \nThis year’s Back to School Night will be virtual/digital – keep an eye out for information from your teacher on signing in!
URL:https://www.hvpto.com/event/view-back-to-school-night-3/
LOCATION:Hermosa View School\, 1800 Prospect Ave\, Hermosa Beach\, CA\, 90254\, United States
CATEGORIES:HBCSD,HBEF,Hermosa View,HVPTO,Meeting
ATTACH;FMTTYPE=image/jpeg:https://www.hvpto.com/wp-content/uploads/2018/08/BTSNightVIEW-GND.jpeg
END:VEVENT
BEGIN:VEVENT
DTSTART;TZID=America/Los_Angeles:20200909T180000
DTEND;TZID=America/Los_Angeles:20200909T220000
DTSTAMP:20260425T042011
CREATED:20200809T012205Z
LAST-MODIFIED:20200809T012205Z
UID:59093-1599674400-1599688800@www.hvpto.com
SUMMARY:HBCSD September School Board Meeting
DESCRIPTION:The Hermosa Beach City School District is holding its monthly School Board meeting on Wednesday\, September 9th at 6:00pm (Closed Session starts at 5pm). To abide by the County Public Health Order\, meetings are being held virtually and can be viewed live on Time Warner Spectrum Channel 8\, Frontier Channel 31\, and at the hermosabeach.gov under “Agendas/Videos.” Meeting agenda’s are posted on the District and City websites. Please visit hbcsd.org for information on how to participate in public comment at this time. \nHBCSD Meeting Information & AgendasCity of Hermosa Beach Agendas & Videos
URL:https://www.hvpto.com/event/hbcsd-september-school-board-meeting-2/
CATEGORIES:HBCSD,Hermosa Valley,Hermosa View,Meeting
ATTACH;FMTTYPE=image/jpeg:https://www.hvpto.com/wp-content/uploads/2018/08/SBM-EVENT.jpeg
END:VEVENT
BEGIN:VEVENT
DTSTART;VALUE=DATE:20200907
DTEND;VALUE=DATE:20200908
DTSTAMP:20260425T042011
CREATED:20200809T011842Z
LAST-MODIFIED:20200825T235547Z
UID:59092-1599436800-1599523199@www.hvpto.com
SUMMARY:NO SCHOOL - LABOR DAY
DESCRIPTION:There is no school\, virtual or otherwise\, on September 7th in honor of Labor Day.
URL:https://www.hvpto.com/event/no-school-labor-day/
CATEGORIES:HBCSD,Hermosa Valley,Hermosa View
ATTACH;FMTTYPE=image/jpeg:https://www.hvpto.com/wp-content/uploads/2020/08/laborday.jpeg
END:VEVENT
END:VCALENDAR