BEGIN:VCALENDAR
VERSION:2.0
PRODID:-//Hermosa View &amp; Valley Parent Teacher Organization - ECPv6.15.17.1//NONSGML v1.0//EN
CALSCALE:GREGORIAN
METHOD:PUBLISH
X-WR-CALNAME:Hermosa View &amp; Valley Parent Teacher Organization
X-ORIGINAL-URL:https://www.hvpto.com
X-WR-CALDESC:Events for Hermosa View &amp; Valley Parent Teacher Organization
REFRESH-INTERVAL;VALUE=DURATION:PT1H
X-Robots-Tag:noindex
X-PUBLISHED-TTL:PT1H
BEGIN:VTIMEZONE
TZID:America/Los_Angeles
BEGIN:DAYLIGHT
TZOFFSETFROM:-0800
TZOFFSETTO:-0700
TZNAME:PDT
DTSTART:20200308T100000
END:DAYLIGHT
BEGIN:STANDARD
TZOFFSETFROM:-0700
TZOFFSETTO:-0800
TZNAME:PST
DTSTART:20201101T090000
END:STANDARD
BEGIN:DAYLIGHT
TZOFFSETFROM:-0800
TZOFFSETTO:-0700
TZNAME:PDT
DTSTART:20210314T100000
END:DAYLIGHT
BEGIN:STANDARD
TZOFFSETFROM:-0700
TZOFFSETTO:-0800
TZNAME:PST
DTSTART:20211107T090000
END:STANDARD
BEGIN:DAYLIGHT
TZOFFSETFROM:-0800
TZOFFSETTO:-0700
TZNAME:PDT
DTSTART:20220313T100000
END:DAYLIGHT
BEGIN:STANDARD
TZOFFSETFROM:-0700
TZOFFSETTO:-0800
TZNAME:PST
DTSTART:20221106T090000
END:STANDARD
END:VTIMEZONE
BEGIN:VEVENT
DTSTART;VALUE=DATE:20210907
DTEND;VALUE=DATE:20210908
DTSTAMP:20260422T215438
CREATED:20210807T193530Z
LAST-MODIFIED:20210807T193530Z
UID:61205-1630972800-1631059199@www.hvpto.com
SUMMARY:VIEW at VISTA Back to School Night - MINIMUM DAY
DESCRIPTION:Tonight is Back-to-School Night for K-2nd grades for Hermosa View at Vista. Come a few minutes early and check out HVPTO’s Spirit Wear table to see this year’s brand new design!
URL:https://www.hvpto.com/event/view-at-vista-back-to-school-night-minimum-day/
LOCATION:Hermosa Vista School\, 417 25th Street\, Hermosa Beach\, 90254
CATEGORIES:HBCSD,HBEF,Hermosa View,HVPTO,Meeting
ATTACH;FMTTYPE=image/jpeg:https://www.hvpto.com/wp-content/uploads/2018/08/BTSNightVIEW-GND.jpeg
END:VEVENT
BEGIN:VEVENT
DTSTART;VALUE=DATE:20210906
DTEND;VALUE=DATE:20210907
DTSTAMP:20260422T215438
CREATED:20210807T193218Z
LAST-MODIFIED:20210807T193218Z
UID:61204-1630886400-1630972799@www.hvpto.com
SUMMARY:NO SCHOOL - LABOR DAY
DESCRIPTION:There are no classes on September 6th in honor of Labor Day.
URL:https://www.hvpto.com/event/no-school-labor-day-2/
LOCATION:All District Campuses\, CA\, 90254\, United States
CATEGORIES:HBCSD,Hermosa Valley,Hermosa View,School Holiday/Closed
ATTACH;FMTTYPE=image/jpeg:https://www.hvpto.com/wp-content/uploads/2020/08/laborday.jpeg
END:VEVENT
BEGIN:VEVENT
DTSTART;VALUE=DATE:20210904
DTEND;VALUE=DATE:20210907
DTSTAMP:20260422T215438
CREATED:20210806T034215Z
LAST-MODIFIED:20210817T151253Z
UID:61203-1630713600-1630972799@www.hvpto.com
SUMMARY:Parking Lot Fundraiser - Labor Day Weekend
DESCRIPTION:HVPTO sells parking spots at Valley School on Saturday – Monday over Labor Day Weekend during Fiesta Hermosa. Volunteers help us by working easy 2-hour shifts\, collecting cash and pointing drivers to open parking spots – it all adds up to one of our largest fundraisers of the year! Middle school students can earn service points by working a shift with a parent. Check back soon for sign-ups. Questions: Parking Lot Chair \nVOLUNTEER SIGN-UPS
URL:https://www.hvpto.com/event/parking-lot-fundraiser-labor-day-weekend/
LOCATION:Hermosa Valley School\, 1645 Valley Drive\, Hermosa Beach\, CA\, 90254\, United States
CATEGORIES:Community,FUNraiser,Hermosa Valley,Hermosa View,HVPTO,Pitch In
ATTACH;FMTTYPE=image/jpeg:https://www.hvpto.com/wp-content/uploads/2018/08/Parking-Sept-EVENT.jpeg
END:VEVENT
BEGIN:VEVENT
DTSTART;VALUE=DATE:20210903
DTEND;VALUE=DATE:20210904
DTSTAMP:20260422T215438
CREATED:20210806T033548Z
LAST-MODIFIED:20210806T033548Z
UID:61202-1630627200-1630713599@www.hvpto.com
SUMMARY:First Day of School!
DESCRIPTION:It’s finally here\, happy or sad\, let the new school year begin! \nHVPTO wishes all our families a safe and healthy year – we can’t wait to see you all!
URL:https://www.hvpto.com/event/first-day-of-school-6/
LOCATION:All District Campuses\, CA\, 90254\, United States
CATEGORIES:HBCSD,Hermosa Valley,Hermosa View
ATTACH;FMTTYPE=image/jpeg:https://www.hvpto.com/wp-content/uploads/2018/08/1st_School-GND.jpeg
END:VEVENT
BEGIN:VEVENT
DTSTART;TZID=America/Los_Angeles:20210901T120000
DTEND;TZID=America/Los_Angeles:20210901T133000
DTSTAMP:20260422T215438
CREATED:20210806T032717Z
LAST-MODIFIED:20210825T214850Z
UID:61201-1630497600-1630503000@www.hvpto.com
SUMMARY:Welcome Back Staff Luncheon
DESCRIPTION:HVPTO is hosting a Welcome Back to Luncheon for the staff at both Hermosa Valley and Hermosa View at Vista. We combine catering and donations of food\, supplies\, and time to help make this event a success! \nPlease check back to see the Online Sign-Up to bring something or volunteer to help the day of the event. \nQuestions: Staff Luncheon Chair \nVolunteer (Not Yet Available)
URL:https://www.hvpto.com/event/welcome-back-staff-luncheon/
LOCATION:All District Campuses\, CA\, 90254\, United States
CATEGORIES:HBCSD,Hermosa Valley,Hermosa View,HVPTO
ATTACH;FMTTYPE=image/jpeg:https://www.hvpto.com/wp-content/uploads/2018/07/StaffLunch-GND.jpeg
END:VEVENT
BEGIN:VEVENT
DTSTART;TZID=America/Los_Angeles:20210811T180000
DTEND;TZID=America/Los_Angeles:20210811T220000
DTSTAMP:20260422T215438
CREATED:20210806T030538Z
LAST-MODIFIED:20210806T030538Z
UID:61199-1628704800-1628719200@www.hvpto.com
SUMMARY:HBCSD August School Board Meeting
DESCRIPTION:The Hermosa Beach City School District is holding its monthly School Board meeting on Wednesday\, August 11th at 6:00pm (Closed Session starts at 5pm). \nMeetings are held at Hermosa Beach City Council Chambers\, located at 1315 Valley Drive\, Hermosa Beach\, but are subject to change\, especially until COVID restrictions are lifted. These meetings are open\, and the public is welcome to attend. \nThe school board meetings are broadcast live on Spectrum Cable Channel 8 and on Frontier Channel 31\, as well as Facebook.com/HBCSD. You may also view the school board meetings live online on the City of Hermosa Beach’s website. \nPlease visit HBCSD to learn more.
URL:https://www.hvpto.com/event/hbcsd-august-school-board-meeting-3/
LOCATION:Hermosa Beach City Council Chambers\, 1315 Valley Drive\, Hermosa Beach\, CA\, 90245\, United States
CATEGORIES:HBCSD,Hermosa Valley,Hermosa View,Meeting
ATTACH;FMTTYPE=image/jpeg:https://www.hvpto.com/wp-content/uploads/2018/08/SBM-EVENT.jpeg
END:VEVENT
BEGIN:VEVENT
DTSTART;TZID=America/Los_Angeles:20210729T180000
DTEND;TZID=America/Los_Angeles:20210729T220000
DTSTAMP:20260422T215438
CREATED:20210806T031613Z
LAST-MODIFIED:20210806T031613Z
UID:61198-1627581600-1627596000@www.hvpto.com
SUMMARY:HBCSD July 29 School Board Meeting
DESCRIPTION:The Hermosa Beach City School District is holding an additional monthly School Board meeting on Thursday\, July 29th at 4:00pm (No Closed Session). To abide by the County Public Health Order\, meetings are being held virtually and can be viewed live on Time Warner Spectrum Channel 8\, Frontier Channel 31\, and at the hermosabeach.gov under “Agendas/Videos.” \nMeeting agendas are posted on the District and City websites. Please visit hbcsd.org for information on how to participate in public comment at this time.
URL:https://www.hvpto.com/event/hbcsd-july-29-school-board-meeting/
LOCATION:Online / TV
CATEGORIES:HBCSD,Hermosa Valley,Hermosa View,Meeting
ATTACH;FMTTYPE=image/jpeg:https://www.hvpto.com/wp-content/uploads/2018/08/SBM-EVENT.jpeg
END:VEVENT
BEGIN:VEVENT
DTSTART;TZID=America/Los_Angeles:20210722T160000
DTEND;TZID=America/Los_Angeles:20210722T180000
DTSTAMP:20260422T215438
CREATED:20210806T031323Z
LAST-MODIFIED:20210806T031323Z
UID:61197-1626969600-1626976800@www.hvpto.com
SUMMARY:HBCSD Special School Board Meeting
DESCRIPTION:The Hermosa Beach City School District is holding a Special Closed Session School Board meeting on Thursday\, July 22nd at 4pm. To abide by the current County Public Health Order\, meetings are being held virtually and can be viewed live on Time Warner Spectrum Channel 8\, Frontier Channel 31\, and at the hermosabeach.gov under “Agendas/Videos.” \nMeeting agendas are posted on the District and City websites. Please visit hbcsd.org for information on how to participate in public comment at this time.
URL:https://www.hvpto.com/event/hbcsd-special-school-board-meeting/
LOCATION:Online / TV
CATEGORIES:HBCSD,Hermosa Valley,Hermosa View,Meeting
ATTACH;FMTTYPE=image/jpeg:https://www.hvpto.com/wp-content/uploads/2018/08/SBM-EVENT.jpeg
END:VEVENT
BEGIN:VEVENT
DTSTART;TZID=America/Los_Angeles:20210714T180000
DTEND;TZID=America/Los_Angeles:20210714T220000
DTSTAMP:20260422T215438
CREATED:20210806T031001Z
LAST-MODIFIED:20210806T031001Z
UID:61196-1626285600-1626300000@www.hvpto.com
SUMMARY:HBCSD July School Board Meeting
DESCRIPTION:The Hermosa Beach City School District is holding its monthly School Board meeting on Wednesday\, July 14th at 6:00pm (Closed Session starts at 4pm). To abide by the County Public Health Order\, meetings are being held virtually and can be viewed live on Time Warner Spectrum Channel 8\, Frontier Channel 31\, and at  hermosabeach.gov under “Agendas/Videos.” \nMeeting agenda’s are posted on the District and City websites. Please visit hbcsd.org for information on how to participate in public comment at this time.
URL:https://www.hvpto.com/event/hbcsd-july-school-board-meeting-3/
LOCATION:Online / TV
CATEGORIES:HBCSD,Hermosa Valley,Hermosa View,Meeting
ATTACH;FMTTYPE=image/jpeg:https://www.hvpto.com/wp-content/uploads/2018/08/SBM-EVENT.jpeg
END:VEVENT
BEGIN:VEVENT
DTSTART;TZID=America/Los_Angeles:20210626T080000
DTEND;TZID=America/Los_Angeles:20210626T160000
DTSTAMP:20260422T215438
CREATED:20210607T040348Z
LAST-MODIFIED:20210607T040348Z
UID:61109-1624694400-1624723200@www.hvpto.com
SUMMARY:HBCSD Special School Board Workshop - June 26th
DESCRIPTION:The Hermosa Beach City School District is holding a Special School Board Workshop on Saturday\, June 26th starting at 8:00am. \nMeeting agenda’s are posted on the District and City websites. Click below for information on how to participate in public comment and watch this meeting at this time. \nMeeting Agenda / Public Comment
URL:https://www.hvpto.com/event/hbcsd-special-school-board-workshop-june-26th/
LOCATION:Online / TV
CATEGORIES:HBCSD,Hermosa Valley,Hermosa View,Meeting
ATTACH;FMTTYPE=image/jpeg:https://www.hvpto.com/wp-content/uploads/2020/08/SpecialSBMtg.jpg
END:VEVENT
BEGIN:VEVENT
DTSTART;TZID=America/Los_Angeles:20210624T180000
DTEND;TZID=America/Los_Angeles:20210624T220000
DTSTAMP:20260422T215438
CREATED:20210113T221435Z
LAST-MODIFIED:20210503T160525Z
UID:60104-1624557600-1624572000@www.hvpto.com
SUMMARY:HBCSD Special School Board Meeting - June 24th
DESCRIPTION:The Hermosa Beach City School District is holding its a Special School Board meeting on Wednesday\,June 23rd at 6:00pm (Closed Session starts at 5pm). To abide by the County Public Health Order\, meetings are being held virtually and can be viewed live on Time Warner Spectrum Channel 8\, Frontier Channel 31\, HBCSD’s Facebook page\, and at hermosabeach.gov under “Agendas/Videos.” Meeting agenda’s are posted on the District and City websites. Please visit hbcsd.org for information on how to participate in public comment at this time. \nMeeting Agenda / Public CommentWatch on FacebookWatch on City Website
URL:https://www.hvpto.com/event/hbcsd-special-school-board-meeting-june-23rd/
LOCATION:Online / TV
CATEGORIES:HBCSD,Hermosa Valley,Hermosa View,Meeting
ATTACH;FMTTYPE=image/jpeg:https://www.hvpto.com/wp-content/uploads/2020/08/SpecialSBMtg.jpg
END:VEVENT
BEGIN:VEVENT
DTSTART;VALUE=DATE:20210623
DTEND;VALUE=DATE:20210624
DTSTAMP:20260422T215438
CREATED:20210113T221231Z
LAST-MODIFIED:20210113T221231Z
UID:60105-1624406400-1624492799@www.hvpto.com
SUMMARY:Last Day of School!
DESCRIPTION:It’s finally here… The last day of a very strange and different school year. HVPTO wishes all our families a safe and healthy summer!
URL:https://www.hvpto.com/event/last-day-of-school/
LOCATION:All District Campuses\, CA\, 90254\, United States
CATEGORIES:HBCSD,Hermosa Valley,Hermosa View
ATTACH;FMTTYPE=image/jpeg:https://www.hvpto.com/wp-content/uploads/2018/08/Last_School-GND.jpeg
END:VEVENT
BEGIN:VEVENT
DTSTART;VALUE=DATE:20210616
DTEND;VALUE=DATE:20210617
DTSTAMP:20260422T215438
CREATED:20210606T222848Z
LAST-MODIFIED:20210607T033629Z
UID:5435-1623801600-1623887999@www.hvpto.com
SUMMARY:View at Vista Field Day
DESCRIPTION:This might be the best day of school all year! TK-2nd graders are invited to participate in the fun as the field and blacktop at Hermosa Vista is transformed into a game and activity extravagnza. \nParent volunteers are definitely needed for this fantastic day – click below to sign up. \nVOLUNTEER SIGN-UP
URL:https://www.hvpto.com/event/view-field-day-2/
LOCATION:Hermosa Vista School\, 417 25th Street\, Hermosa Beach\, 90254
CATEGORIES:HBCSD,Hermosa View,HVPTO,Pitch In
END:VEVENT
BEGIN:VEVENT
DTSTART;TZID=America/Los_Angeles:20210615T190000
DTEND;TZID=America/Los_Angeles:20210615T210000
DTSTAMP:20260422T215438
CREATED:20210113T220721Z
LAST-MODIFIED:20210615T034000Z
UID:60103-1623783600-1623790800@www.hvpto.com
SUMMARY:HVPTO+HBEF June Joint General Meeting
DESCRIPTION:All are invited to attend the last HVPTO+HBEF Joint Board Meeting of the 2020-2021 school year! Please join us and learn how our two organizations work together with both schools and HBCSD to enrich the learning environment for all HVS students. \nClick below to Join! \nJoin Meeting at 7 pmHVPTO AgendaHBEF Agenda – Avail Day of Meeting21-22 Proposed Budget21-22 Proposed Executive SlateFinancial Highlights
URL:https://www.hvpto.com/event/hvptohbef-june-joint-general-meeting-2/
LOCATION:Zoom
CATEGORIES:HBEF,Hermosa Valley,Hermosa View,HVPTO,Meeting
END:VEVENT
BEGIN:VEVENT
DTSTART;VALUE=DATE:20210610
DTEND;VALUE=DATE:20210611
DTSTAMP:20260422T215438
CREATED:20210427T221054Z
LAST-MODIFIED:20210607T035531Z
UID:60100-1623283200-1623369599@www.hvpto.com
SUMMARY:VIEW at VISTA Open House (Virtual)
DESCRIPTION:Please virtually join us at Hermosa View at Vista’s Open House for 2020-2021 on June 10th. \nCheck your email for an email from the District/your teacher for the link to padlet.com for our families to digitally tour each classroom while also seeing student work through pictures\, videos\, slide shows and more!  The link goes live on June 10th at 12 noon and will be accessible through June 23rd.
URL:https://www.hvpto.com/event/view-at-vista-open-house/
LOCATION:CA
CATEGORIES:HBCSD,Hermosa View,Meeting
ATTACH;FMTTYPE=image/jpeg:https://www.hvpto.com/wp-content/uploads/2018/08/VIEWopenhouse-GND.jpeg
END:VEVENT
BEGIN:VEVENT
DTSTART;TZID=America/Los_Angeles:20210609T180000
DTEND;TZID=America/Los_Angeles:20210609T220000
DTSTAMP:20260422T215438
CREATED:20210113T220600Z
LAST-MODIFIED:20210113T220600Z
UID:60102-1623261600-1623276000@www.hvpto.com
SUMMARY:HBCSD June School Board Meeting
DESCRIPTION:The Hermosa Beach City School District is holding its monthly School Board meeting on Wednesday\, June 9th at 6:00pm (Closed Session starts at 5pm). To abide by the County Public Health Order\, meetings are being held virtually and can be viewed live on Time Warner Spectrum Channel 8\, Frontier Channel 31\, HBCSD’s Facebook page\, and at hermosabeach.gov under “Agendas/Videos.” Meeting agenda’s are posted on the District and City websites. Please visit hbcsd.org for information on how to participate in public comment at this time. \nMeeting Agenda / Public CommentWatch on FacebookWatch on City Website
URL:https://www.hvpto.com/event/hbcsd-june-school-board-meeting-2/
LOCATION:Online / TV
CATEGORIES:HBCSD,Hermosa Valley,Hermosa View,Meeting
ATTACH;FMTTYPE=image/jpeg:https://www.hvpto.com/wp-content/uploads/2018/08/SBM-EVENT.jpeg
END:VEVENT
BEGIN:VEVENT
DTSTART;TZID=America/Los_Angeles:20210602T170000
DTEND;TZID=America/Los_Angeles:20210602T180000
DTSTAMP:20260422T215439
CREATED:20210428T000732Z
LAST-MODIFIED:20210428T000732Z
UID:60812-1622653200-1622656800@www.hvpto.com
SUMMARY:Virtual Tour with the Principal
DESCRIPTION:This is the last chance of the year for parents of new TK-2nd grade students are invited to virtually tour Hermosa Vista School with Principal Scott. \nLearn all about Hermosa View at Vista\, daycare options with STAR Education\, the school day schedule\, volunteer opportunities and more! \nWe can’t wait to have you join our community – click below to sign up! \nTour Sign Up
URL:https://www.hvpto.com/event/virtual-tour-with-the-principal-2/
LOCATION:Zoom
CATEGORIES:HBCSD,Hermosa View,Meeting
ATTACH;FMTTYPE=image/jpeg:https://www.hvpto.com/wp-content/uploads/2019/03/untitled-96.jpeg
END:VEVENT
BEGIN:VEVENT
DTSTART;VALUE=DATE:20210531
DTEND;VALUE=DATE:20210601
DTSTAMP:20260422T215439
CREATED:20210113T220004Z
LAST-MODIFIED:20210113T220004Z
UID:60099-1622419200-1622505599@www.hvpto.com
SUMMARY:NO SCHOOL - MEMORIAL DAY
DESCRIPTION:There are no classes\, virtual or otherwise\, on May 31st in honor of Memorial Day.
URL:https://www.hvpto.com/event/no-school-memorial-day-4/
LOCATION:All District Campuses\, CA\, 90254\, United States
CATEGORIES:HBCSD,Hermosa Valley,Hermosa View
ATTACH;FMTTYPE=image/jpeg:https://www.hvpto.com/wp-content/uploads/2018/08/memorialday.jpeg
END:VEVENT
BEGIN:VEVENT
DTSTART;TZID=America/Los_Angeles:20210527T170000
DTEND;TZID=America/Los_Angeles:20210527T210000
DTSTAMP:20260422T215439
CREATED:20210510T182937Z
LAST-MODIFIED:20210510T182937Z
UID:60949-1622134800-1622149200@www.hvpto.com
SUMMARY:HBCSD Special School Board Budget Workshop - May 27th
DESCRIPTION:The Hermosa Beach City School District is holding a Special School Board Budget Workshop on Thursday\, May 27th at 5:00pm. To abide by the County Public Health Order\, meetings are being held virtually and can be viewed live on Time Warner Spectrum Channel 8\, Frontier Channel 31\, HBCSD’s Facebook page\, and at hermosabeach.gov under “Agendas/Videos.” Meeting agenda’s are posted on the District and City websites. Click below for information on how to participate in public comment at this time. \nMeeting Agenda / Public CommentWatch on FacebookWatch on City Website
URL:https://www.hvpto.com/event/hbcsd-special-school-board-budget-workshop-may-27th/
LOCATION:Online / TV
CATEGORIES:HBCSD,Hermosa Valley,Hermosa View,Meeting
ATTACH;FMTTYPE=image/jpeg:https://www.hvpto.com/wp-content/uploads/2020/08/SpecialSBMtg.jpg
END:VEVENT
BEGIN:VEVENT
DTSTART;TZID=America/Los_Angeles:20210515T100000
DTEND;TZID=America/Los_Angeles:20210515T190000
DTSTAMP:20260422T215439
CREATED:20200127T193307Z
LAST-MODIFIED:20210513T000059Z
UID:16275-1621072800-1621105200@www.hvpto.com
SUMMARY:Arts of Hermosa
DESCRIPTION:We hope to see all of you at Arts of Hermosa on May 15 from 10am – 7pm at the brand new Hermosa Vista School presented by HVPTO\, Young at Art in Hermosa Beach Schools and the South Bay Artists Collective. Free reservation-based tickets for the art show\, as well as tickets ($30) for private guided tours of Hermosa Vista\, will be available on HVPTO.com starting May 5.\n\nBring the whole family to view the wonderful art that will be a part of HBEF’s Hearts of Hermosa online auction which runs from May 10—15. Take a private guided tour of the new campus with your family and then plan a meal out at one of our participating YumRaiser restaurants throughout town.\n\nAll tour ticket sales and YumRaiser proceeds to benefit HBEF! We hope to see you there!\n\n#poweredbyHVPTO & #brighterbyHBEF\nArt Show – Reserve Your TimeGuided Tour TicketsVolunteers Needed!
URL:https://www.hvpto.com/event/arts-of-hermosa/
LOCATION:Hermosa Vista School\, 417 25th Street\, Hermosa Beach\, 90254
CATEGORIES:Charity Drive,FUNraiser,HBEF,Hermosa Valley,Hermosa View,Young at Art
ATTACH;FMTTYPE=image/jpeg:https://www.hvpto.com/wp-content/uploads/2021/04/ArtsofHermosa.jpeg
END:VEVENT
BEGIN:VEVENT
DTSTART;TZID=America/Los_Angeles:20210512T180000
DTEND;TZID=America/Los_Angeles:20210512T220000
DTSTAMP:20260422T215439
CREATED:20210113T215904Z
LAST-MODIFIED:20210113T215904Z
UID:60098-1620842400-1620856800@www.hvpto.com
SUMMARY:HBCSD May School Board Meeting
DESCRIPTION:The Hermosa Beach City School District is holding its monthly School Board meeting on Wednesday\,May 12th at 6:00pm (Closed Session starts at 5pm). To abide by the County Public Health Order\, meetings are being held virtually and can be viewed live on Time Warner Spectrum Channel 8\, Frontier Channel 31\, HBCSD’s Facebook page\, and at hermosabeach.gov under “Agendas/Videos.” Meeting agenda’s are posted on the District and City websites. Please visit hbcsd.org for information on how to participate in public comment at this time. \nMeeting Agenda / Public CommentWatch on FacebookWatch on City Website
URL:https://www.hvpto.com/event/hbcsd-may-school-board-meeting-2/
LOCATION:Online / TV
CATEGORIES:HBCSD,Hermosa Valley,Hermosa View,Meeting
ATTACH;FMTTYPE=image/jpeg:https://www.hvpto.com/wp-content/uploads/2018/08/SBM-EVENT.jpeg
END:VEVENT
BEGIN:VEVENT
DTSTART;TZID=America/Los_Angeles:20210512T090000
DTEND;TZID=America/Los_Angeles:20210512T100000
DTSTAMP:20260422T215439
CREATED:20210428T000556Z
LAST-MODIFIED:20210428T000556Z
UID:60808-1620810000-1620813600@www.hvpto.com
SUMMARY:Virtual Tour with the Principal
DESCRIPTION:Parents of new TK-2nd grade students are invited to virtually tour Hermosa Vista School with Principal Scott. \nLearn all about Hermosa View at Vista\, daycare options with STAR Education\, the school day schedule\, volunteer opportunities and more! \nCan’t make today’s Tour – there will be one more tour on June 2nd at 5pm. \nWe can’t wait to have you join our community – click below to sign up for either tour! \nTour Sign Up
URL:https://www.hvpto.com/event/virtual-tour-with-the-principal/
LOCATION:Zoom
CATEGORIES:HBCSD,Hermosa View,Meeting
ATTACH;FMTTYPE=image/jpeg:https://www.hvpto.com/wp-content/uploads/2019/03/untitled-96.jpeg
END:VEVENT
BEGIN:VEVENT
DTSTART;TZID=America/Los_Angeles:20210511T190000
DTEND;TZID=America/Los_Angeles:20210511T210000
DTSTAMP:20260422T215439
CREATED:20210113T213926Z
LAST-MODIFIED:20210510T223820Z
UID:60097-1620759600-1620766800@www.hvpto.com
SUMMARY:HVPTO+HBEF May Joint General Meeting
DESCRIPTION:All are invited to attend the May HVPTO+HBEF Joint Board Meeting! Please join us and learn how our two organizations work together with both schools and HBCSD to enrich the learning environment for all HVS students. The meeting will be held via Zoom – please keep an eye on your email for the link to join! \nHVPTO AgendaHBEF Agenda – Avail Day of MeetingHVPTO Financial HighlightsHVPTO General Meeting Notes – March 20212021-2022 HVPTO Proposed Budget
URL:https://www.hvpto.com/event/hvptohbef-may-joint-general-meeting-2/
LOCATION:Zoom
CATEGORIES:Community,HBEF,Hermosa Valley,Hermosa View,HVPTO,Meeting
END:VEVENT
BEGIN:VEVENT
DTSTART;VALUE=DATE:20210510
DTEND;VALUE=DATE:20210516
DTSTAMP:20260422T215439
CREATED:20190805T223412Z
LAST-MODIFIED:20210427T235854Z
UID:5411-1620604800-1621123199@www.hvpto.com
SUMMARY:HBEF Presents Hearts of Hermosa Silent Auction
DESCRIPTION:HBEF is thinking outside the box for Hearts of Hermosa this year!  You can see if there are any Hearts of Hermosa Parties tickets left or you can click below\, starting May 10th\, to peruse this year’s Silent Auction items.  The auction will run May 10th to May 15th – get your bids in! \nAs always\, all funds raised stay right here in our Hermosa Beach schools and are critical in helping fund all of the fabulous programs our District is known for! \nAlso this year: come see the art pieces up for auction on Saturday\, May 15th at the Art in Hermosa art show at Hermosa Vista School.  Reservations are required – click here to get your no-cost tickets now! \nHEARTS OF HERMOSA SILENT AUCTION
URL:https://www.hvpto.com/event/hbef-presents-hearts-of-hermosa-3/
LOCATION:CA
CATEGORIES:Community,FUNraiser,HBCSD,HBEF,Hermosa Valley,Hermosa View,Pitch In
ATTACH;FMTTYPE=image/png:https://www.hvpto.com/wp-content/uploads/2021/04/HoH-Auction-2021.png
END:VEVENT
BEGIN:VEVENT
DTSTART;VALUE=DATE:20210503
DTEND;VALUE=DATE:20210508
DTSTAMP:20260422T215439
CREATED:20210427T223352Z
LAST-MODIFIED:20210427T223352Z
UID:60798-1620000000-1620431999@www.hvpto.com
SUMMARY:Staff Appreciation Week
DESCRIPTION:Let’s show all the teachers and staff at our Hermosa Beach schools how much we appreciate all the work they put in to educating our kiddos. \nHVPTO will be decorating our offices and dropping off treats to spoil all of our on-campus staff.  Want to help?  Click below to see how you can donate and volunteer! \nHVPTO is also coordinating gifts for our Middle School Staff through our Middle School Class Fund.  Click to learn more and let HVPTO take care of your teachers for you! \nFor our K-5 teachers\, please check with your Room Parent for their plans to celebrate your classroom teacher! \nVOLUNTEER SIGN-UPS
URL:https://www.hvpto.com/event/staff-appreciation-week-3/
LOCATION:All District Campuses\, CA\, 90254\, United States
CATEGORIES:Hermosa Valley,Hermosa View,HVPTO,Pitch In
ATTACH;FMTTYPE=image/jpeg:https://www.hvpto.com/wp-content/uploads/2021/04/SAW-2021.jpg
END:VEVENT
BEGIN:VEVENT
DTSTART;TZID=America/Los_Angeles:20210414T180000
DTEND;TZID=America/Los_Angeles:20210414T220000
DTSTAMP:20260422T215439
CREATED:20210113T213435Z
LAST-MODIFIED:20210113T213435Z
UID:60096-1618423200-1618437600@www.hvpto.com
SUMMARY:HBCSD April School Board Meeting
DESCRIPTION:The Hermosa Beach City School District is holding its monthly School Board meeting on Wednesday\, April 14th at 6:00pm (Closed Session starts at 5pm). To abide by the County Public Health Order\, meetings are being held virtually and can be viewed live on Time Warner Spectrum Channel 8\, Frontier Channel 31\, HBCSD’s Facebook page\, and at hermosabeach.gov under “Agendas/Videos.” Meeting agenda’s are posted on the District and City websites. Please visit hbcsd.org for information on how to participate in public comment at this time. \nMeeting Agenda / Public CommentWatch on FacebookWatch on City Website
URL:https://www.hvpto.com/event/hbcsd-april-school-board-meeting-2/
LOCATION:Online / TV
CATEGORIES:HBCSD,Hermosa Valley,Hermosa View,Meeting
ATTACH;FMTTYPE=image/jpeg:https://www.hvpto.com/wp-content/uploads/2018/08/SBM-EVENT.jpeg
END:VEVENT
BEGIN:VEVENT
DTSTART;VALUE=DATE:20210405
DTEND;VALUE=DATE:20210410
DTSTAMP:20260422T215439
CREATED:20210113T205416Z
LAST-MODIFIED:20210113T205416Z
UID:60095-1617580800-1618012799@www.hvpto.com
SUMMARY:NO SCHOOL - SPRING BREAK
DESCRIPTION:There are no classes\, virtual or otherwise\, from April 5 – 9.
URL:https://www.hvpto.com/event/no-school-spring-break-4/
LOCATION:All District Campuses\, CA\, 90254\, United States
CATEGORIES:HBCSD,Hermosa Valley,Hermosa View
ATTACH;FMTTYPE=image/jpeg:https://www.hvpto.com/wp-content/uploads/2018/10/spring.jpeg
END:VEVENT
BEGIN:VEVENT
DTSTART;TZID=America/Los_Angeles:20210331T151500
DTEND;TZID=America/Los_Angeles:20210331T153000
DTSTAMP:20260422T215439
CREATED:20210329T200805Z
LAST-MODIFIED:20210329T200805Z
UID:60693-1617203700-1617204600@www.hvpto.com
SUMMARY:"Under the Sea" with Mr. Scott
DESCRIPTION:As you all know\, thanks to all of our students\, the generosity of their donors and our Sponsors\, HVPTO hit our fundraising goal for this year’s Dolphin Dash. And as promised\, Hermosa View principal\, Ted Scott\, will be performing Under the Sea\, on Wednesday\, 3/31!\n\nYou don’t want to miss this SPECTACULAR performance – and if Mr. Scott singing wasn’t enough to get you there… the “show” will also feature a few special guests from Hermosa Valley and come to you from a special location! You can tune in on HVPTO’s FB page at 3:15 pm. “Sea” you there!
URL:https://www.hvpto.com/event/under-the-sea-with-mr-scott/
LOCATION:HVPTO’s FB Page
CATEGORIES:Community,FUNraiser,HBCSD,Hermosa Valley,Hermosa View,HVPTO
ATTACH;FMTTYPE=image/jpeg:https://www.hvpto.com/wp-content/uploads/2021/03/Under-the-Sea.jpg
END:VEVENT
BEGIN:VEVENT
DTSTART;VALUE=DATE:20210319
DTEND;VALUE=DATE:20210320
DTSTAMP:20260422T215439
CREATED:20210107T213810Z
LAST-MODIFIED:20210107T214055Z
UID:60094-1616112000-1616198399@www.hvpto.com
SUMMARY:Last Day of 2nd Trimester
DESCRIPTION:Friday\, March 19th is the last day of the 2nd Trimester. Trimester 3 starts on Monday\, March 22nd and runs until the end of the school year.
URL:https://www.hvpto.com/event/last-day-of-2nd-trimester/
LOCATION:All District Campuses\, CA\, 90254\, United States
CATEGORIES:HBCSD,Hermosa Valley,Hermosa View
ATTACH;FMTTYPE=image/jpeg:https://www.hvpto.com/wp-content/uploads/2020/08/end-trimester.jpeg
END:VEVENT
BEGIN:VEVENT
DTSTART;TZID=America/Los_Angeles:20210315T170000
DTEND;TZID=America/Los_Angeles:20210315T210000
DTSTAMP:20260422T215439
CREATED:20210113T224851Z
LAST-MODIFIED:20210113T224851Z
UID:60192-1615827600-1615842000@www.hvpto.com
SUMMARY:Special School Board Workshop
DESCRIPTION:The Board of Education will be holding a Special School Board Workshop at 5pm on Monday\, March 15th. \nThis meeting will be broadcast live on Frontier – channel 31 & on Time Warner Spectrum – channel 8 or online at Facebook Live (@hbcsd) or on the City’s website. \nMeeting Agenda / Public CommentWatch on FacebookWatch on City Website
URL:https://www.hvpto.com/event/special-school-board-workshop-2/
LOCATION:Online / TV
CATEGORIES:Community,HBCSD,Hermosa Valley,Hermosa View,Meeting
ATTACH;FMTTYPE=image/jpeg:https://www.hvpto.com/wp-content/uploads/2018/08/SBM-EVENT.jpeg
END:VEVENT
END:VCALENDAR