BEGIN:VCALENDAR
VERSION:2.0
PRODID:-//Hermosa View &amp; Valley Parent Teacher Organization - ECPv6.15.17.1//NONSGML v1.0//EN
CALSCALE:GREGORIAN
METHOD:PUBLISH
X-ORIGINAL-URL:https://www.hvpto.com
X-WR-CALDESC:Events for Hermosa View &amp; Valley Parent Teacher Organization
REFRESH-INTERVAL;VALUE=DURATION:PT1H
X-Robots-Tag:noindex
X-PUBLISHED-TTL:PT1H
BEGIN:VTIMEZONE
TZID:America/Los_Angeles
BEGIN:DAYLIGHT
TZOFFSETFROM:-0800
TZOFFSETTO:-0700
TZNAME:PDT
DTSTART:20200308T100000
END:DAYLIGHT
BEGIN:STANDARD
TZOFFSETFROM:-0700
TZOFFSETTO:-0800
TZNAME:PST
DTSTART:20201101T090000
END:STANDARD
BEGIN:DAYLIGHT
TZOFFSETFROM:-0800
TZOFFSETTO:-0700
TZNAME:PDT
DTSTART:20210314T100000
END:DAYLIGHT
BEGIN:STANDARD
TZOFFSETFROM:-0700
TZOFFSETTO:-0800
TZNAME:PST
DTSTART:20211107T090000
END:STANDARD
BEGIN:DAYLIGHT
TZOFFSETFROM:-0800
TZOFFSETTO:-0700
TZNAME:PDT
DTSTART:20220313T100000
END:DAYLIGHT
BEGIN:STANDARD
TZOFFSETFROM:-0700
TZOFFSETTO:-0800
TZNAME:PST
DTSTART:20221106T090000
END:STANDARD
BEGIN:DAYLIGHT
TZOFFSETFROM:-0800
TZOFFSETTO:-0700
TZNAME:PDT
DTSTART:20230312T100000
END:DAYLIGHT
BEGIN:STANDARD
TZOFFSETFROM:-0700
TZOFFSETTO:-0800
TZNAME:PST
DTSTART:20231105T090000
END:STANDARD
END:VTIMEZONE
BEGIN:VEVENT
DTSTART;TZID=America/Los_Angeles:20220209T180000
DTEND;TZID=America/Los_Angeles:20220209T220000
DTSTAMP:20260422T162929
CREATED:20210817T024805Z
LAST-MODIFIED:20210830T184833Z
UID:61245-1644429600-1644444000@www.hvpto.com
SUMMARY:HBCSD February School Board Meeting
DESCRIPTION:The Hermosa Beach City School District is holding its monthly School Board meeting on Wednesday\, February 9th at 6:00pm (Closed Session starts at 5pm). \nMeetings are held at Hermosa Beach City Council Chambers\, located at 1315 Valley Drive\, Hermosa Beach\, but are subject to change\, especially until COVID restrictions are lifted. These meetings are open\, and the public is welcome to attend. \nThe school board meetings are broadcast live on Spectrum Cable Channel 8 and on Frontier Channel 31\, as well as online. Click the link below to view on YouTube or through the City of Hermosa Beach. \nPlease visit HBCSD to learn more. \nMeeting Agenda / Public CommentWatch on YouTubeWatch on City Website
URL:https://www.hvpto.com/event/hbcsd-february-school-board-meeting-3/
LOCATION:Hermosa Beach City Council Chambers\, 1315 Valley Drive\, Hermosa Beach\, CA\, 90245\, United States
CATEGORIES:HBCSD,Hermosa Valley,Hermosa View,Meeting
ATTACH;FMTTYPE=image/jpeg:https://www.hvpto.com/wp-content/uploads/2018/08/SBM-EVENT.jpeg
END:VEVENT
BEGIN:VEVENT
DTSTART;TZID=America/Los_Angeles:20220126T180000
DTEND;TZID=America/Los_Angeles:20220126T193000
DTSTAMP:20260422T162929
CREATED:20220118T181706Z
LAST-MODIFIED:20220118T181706Z
UID:62947-1643220000-1643225400@www.hvpto.com
SUMMARY:TK/Kinder Parent Information Meeting
DESCRIPTION:HBCSD has scheduled two Transitional Kindergarten/Kindergarten Informational Parent Meetings for interested families to attend on Wednesday\, January 26 (via Zoom) or Wednesday\, February 16 (in-person) from 6:00-7:30 PM. Click here to view the flyer and register to attend.\n\nTransitional Kindergarten (TK) is offered to students in our community that are not eligible to be in Kindergarten (must be turning five on or before September 2\, 2022). Students are eligible for the 2022-2023 school year to enroll in our full-day TK Program if they are turning five years old on or between September 2\, 2022-February 2\, 2023. TK/K will be offered at our updated Hermosa View School reopening in August 2022. There is also before and after child care with STAR Education at our Hermosa school sites.\n\nAt the TK/K Informational Parent Meetings\, HBCSD will discuss our full-day TK/K curriculum and differences\, eligibility for enrollment\, registration process\, STAR Education (before and after school care)\, interdistrict permits\, our updated/new schools\, volunteer opportunities with the HVPTO & HBEF\, and why we are the Best Little School District in the South Bay. Also\, we’ll have a question and answer session at the end of the presentation. We look forward to seeing everyone there!
URL:https://www.hvpto.com/event/tk-kinder-parent-information-meeting/
LOCATION:Zoom
CATEGORIES:Community,HBCSD,Hermosa Valley,Hermosa View,Meeting
ATTACH;FMTTYPE=image/png:https://www.hvpto.com/wp-content/uploads/2021/08/TK-Kinder-Info.png
END:VEVENT
BEGIN:VEVENT
DTSTART;VALUE=DATE:20220126
DTEND;VALUE=DATE:20220127
DTSTAMP:20260422T162929
CREATED:20210817T024415Z
LAST-MODIFIED:20211004T230031Z
UID:61244-1643155200-1643241599@www.hvpto.com
SUMMARY:VIEW at VISTA Flag Ceremony (TK-2)
DESCRIPTION:View at Vista will be celebrating our students on during a flag ceremony on January 26th. \nCheck your school communications for times for each grade level.
URL:https://www.hvpto.com/event/view-at-vista-flag-ceremony-tk-2-3/
LOCATION:Hermosa Vista School\, 417 25th Street\, Hermosa Beach\, 90254
CATEGORIES:HBCSD,Hermosa View
ATTACH;FMTTYPE=image/jpeg:https://www.hvpto.com/wp-content/uploads/2021/10/View-Flag-Ceremony.jpeg
END:VEVENT
BEGIN:VEVENT
DTSTART;VALUE=DATE:20220124
DTEND;VALUE=DATE:20220129
DTSTAMP:20260422T162929
CREATED:20210817T024239Z
LAST-MODIFIED:20210817T024239Z
UID:61243-1642982400-1643414399@www.hvpto.com
SUMMARY:Great Kindness Challenge Week
DESCRIPTION:Valley and View at Vista will be taking part of the national Great Kindness Challenge January 24 – 28. \nThe week will be filled with ways for students to learn\, explore\, and practice kindness.
URL:https://www.hvpto.com/event/great-kindness-challenge-week/
LOCATION:All District Campuses\, CA\, 90254\, United States
CATEGORIES:HBCSD,Hermosa Valley,Hermosa View
ATTACH;FMTTYPE=image/jpeg:https://www.hvpto.com/wp-content/uploads/2019/01/kindness.jpg
END:VEVENT
BEGIN:VEVENT
DTSTART;TZID=America/Los_Angeles:20220118T193000
DTEND;TZID=America/Los_Angeles:20220118T210000
DTSTAMP:20260422T162929
CREATED:20210813T221657Z
LAST-MODIFIED:20220118T180628Z
UID:61242-1642534200-1642539600@www.hvpto.com
SUMMARY:HVPTO+HBEF January Joint General Meeting
DESCRIPTION:All are invited to attend the first HVPTO+HBEF Joint Board Meeting of 2022! \nPlease join us and learn how our two organizations work together with both schools and HBCSD to enrich the learning environment for all HVS students. \nThe meeting will be held via Zoom at 7:30 PM.  Please see the January 18th Surf Report for the link. \nAgendaHVPTO – Prior Meeting MinutesHBEF – Prior Meeting Minutes
URL:https://www.hvpto.com/event/hvptohbef-january-joint-general-meeting-3/
LOCATION:Zoom
CATEGORIES:HBEF,Hermosa Valley,Hermosa View,HVPTO,Meeting
ATTACH;FMTTYPE=image/png:https://www.hvpto.com/wp-content/uploads/2021/08/Joint-Zoom.png
END:VEVENT
BEGIN:VEVENT
DTSTART;VALUE=DATE:20220117
DTEND;VALUE=DATE:20220118
DTSTAMP:20260422T162929
CREATED:20210813T232712Z
LAST-MODIFIED:20210813T232727Z
UID:61241-1642377600-1642463999@www.hvpto.com
SUMMARY:NO SCHOOL - MLK
DESCRIPTION:There are no classes on January 17th in honor of Dr. Martin Luther King Jr.
URL:https://www.hvpto.com/event/no-school-mlk-2/
LOCATION:All District Campuses\, CA\, 90254\, United States
CATEGORIES:HBCSD,Hermosa Valley,Hermosa View,School Holiday/Closed
ATTACH;FMTTYPE=image/jpeg:https://www.hvpto.com/wp-content/uploads/2018/08/MLKday.jpeg
END:VEVENT
BEGIN:VEVENT
DTSTART;TZID=America/Los_Angeles:20220112T180000
DTEND;TZID=America/Los_Angeles:20220112T220000
DTSTAMP:20260422T162929
CREATED:20210817T024104Z
LAST-MODIFIED:20210830T184739Z
UID:61240-1642010400-1642024800@www.hvpto.com
SUMMARY:HBCSD January School Board Meeting
DESCRIPTION:The Hermosa Beach City School District is holding its monthly School Board meeting on Wednesday\, January 12th at 6:00pm (Closed Session starts at 5pm). \nMeetings are held at Hermosa Beach City Council Chambers\, located at 1315 Valley Drive\, Hermosa Beach\, but are subject to change\, especially until COVID restrictions are lifted. These meetings are open\, and the public is welcome to attend. \nThe school board meetings are broadcast live on Spectrum Cable Channel 8 and on Frontier Channel 31\, as well as online. Click the link below to view on YouTube or through the City of Hermosa Beach. \nPlease visit HBCSD to learn more. \nMeeting Agenda / Public CommentWatch on YouTubeWatch on City Website
URL:https://www.hvpto.com/event/hbcsd-january-school-board-meeting-3/
LOCATION:Hermosa Beach City Council Chambers\, 1315 Valley Drive\, Hermosa Beach\, CA\, 90245\, United States
CATEGORIES:HBCSD,Hermosa Valley,Hermosa View,Meeting
ATTACH;FMTTYPE=image/jpeg:https://www.hvpto.com/wp-content/uploads/2018/08/SBM-EVENT.jpeg
END:VEVENT
BEGIN:VEVENT
DTSTART;VALUE=DATE:20211220
DTEND;VALUE=DATE:20220101
DTSTAMP:20260422T162929
CREATED:20210813T232534Z
LAST-MODIFIED:20210813T232534Z
UID:61239-1639958400-1640995199@www.hvpto.com
SUMMARY:NO SCHOOL - WINTER BREAK
DESCRIPTION:There are no classes from December 20 – December 31. \nSee you back after the New Year on January 3rd!
URL:https://www.hvpto.com/event/no-school-winter-break-5/
LOCATION:All District Campuses\, CA\, 90254\, United States
CATEGORIES:HBCSD,Hermosa Valley,Hermosa View,School Holiday/Closed
ATTACH;FMTTYPE=image/jpeg:https://www.hvpto.com/wp-content/uploads/2018/10/winter.jpeg
END:VEVENT
BEGIN:VEVENT
DTSTART;VALUE=DATE:20211217
DTEND;VALUE=DATE:20211218
DTSTAMP:20260422T162929
CREATED:20210813T232441Z
LAST-MODIFIED:20210813T232441Z
UID:61238-1639699200-1639785599@www.hvpto.com
SUMMARY:MINIMUM DAY - Last Day Before Winter Break
DESCRIPTION:It’s a MINIMUM DAY for all grades as we head out for Winter Break – see everyone in the New Year!
URL:https://www.hvpto.com/event/minimum-day-last-day-before-winter-break/
LOCATION:All District Campuses\, CA\, 90254\, United States
CATEGORIES:HBCSD,Hermosa Valley,Hermosa View
ATTACH;FMTTYPE=image/jpeg:https://www.hvpto.com/wp-content/uploads/2018/08/MinimumDay-GND.jpeg
END:VEVENT
BEGIN:VEVENT
DTSTART;TZID=America/Los_Angeles:20211214T170000
DTEND;TZID=America/Los_Angeles:20211214T210000
DTSTAMP:20260422T162929
CREATED:20211206T164655Z
LAST-MODIFIED:20211206T164655Z
UID:62817-1639501200-1639515600@www.hvpto.com
SUMMARY:YUMraiser at Chipotle
DESCRIPTION:YUMraisers are a delicious way to support our schools and our first of the year is happening at the Hb Chipotle on Tuesday\, 12/14. Plan to skip making dinner and support HVPTO while enjoying a meal from a local restaurant. \nTo make this process easier\, Chipotle has expanded the options to order: \n\nIN-STORE – Walk in\, order and show the digital flyer.\nDidn’t bring your phone in with you? Mention the HVPTO fundraiser to the cashier at check out.\nONLINE – Make it easy and order online or on the Chipotle app and pick-up! Use promo code LXYYPR6 at check out.\n\nThe pick-up time for your order must be between 5–9pm on Tuesday\, 12/14 and ordered from the Hermosa Beach location. \nUnfortunately\, we will not get credit for delivery orders at this time. \nDigital Flyer
URL:https://www.hvpto.com/event/yumraiser-at-chipotle-3/
LOCATION:Chipotle Hermosa Beach\, 1439 Pacific Coast Hwy\, Hermosa Beach\, CA\, 90254\, United States
CATEGORIES:Community,Hermosa Valley,Hermosa View,HVPTO,YUMraiser
ATTACH;FMTTYPE=image/png:https://www.hvpto.com/wp-content/uploads/2021/12/Chipotle-Yumraiser.png
END:VEVENT
BEGIN:VEVENT
DTSTART;TZID=America/Los_Angeles:20211208T180000
DTEND;TZID=America/Los_Angeles:20211208T180000
DTSTAMP:20260422T162929
CREATED:20210813T232311Z
LAST-MODIFIED:20210830T184031Z
UID:61237-1638986400-1638986400@www.hvpto.com
SUMMARY:HBCSD December School Board Meeting
DESCRIPTION:The Hermosa Beach City School District is holding its monthly School Board meeting on Wednesday\, December 8th at 6:00pm (Closed Session starts at 5pm). \nMeetings are held at Hermosa Beach City Council Chambers\, located at 1315 Valley Drive\, Hermosa Beach\, but are subject to change\, especially until COVID restrictions are lifted. These meetings are open\, and the public is welcome to attend. \nThe school board meetings are broadcast live on Spectrum Cable Channel 8 and on Frontier Channel 31\, as well as online. Click the link below to view on YouTube or through the City of Hermosa Beach. \nPlease visit HBCSD to learn more. \nMeeting Agenda / Public CommentWatch on YouTubeWatch on City Website
URL:https://www.hvpto.com/event/hbcsd-december-school-board-meeting-3/
LOCATION:Hermosa Beach City Council Chambers\, 1315 Valley Drive\, Hermosa Beach\, CA\, 90245\, United States
CATEGORIES:HBCSD,Hermosa Valley,Hermosa View,Meeting
ATTACH;FMTTYPE=image/jpeg:https://www.hvpto.com/wp-content/uploads/2018/08/SBM-EVENT.jpeg
END:VEVENT
BEGIN:VEVENT
DTSTART;VALUE=DATE:20211206
DTEND;VALUE=DATE:20211211
DTSTAMP:20260422T162930
CREATED:20210813T231929Z
LAST-MODIFIED:20210813T231929Z
UID:61236-1638748800-1639180799@www.hvpto.com
SUMMARY:MINIMUM DAYS – for Parent/Teacher Conferences
DESCRIPTION:It’s Parent / Teacher Conference Week. All grades are on Minimum Day Schedule for the week.
URL:https://www.hvpto.com/event/minimum-days-for-parent-teacher-conferences/
LOCATION:All District Campuses\, CA\, 90254\, United States
CATEGORIES:HBCSD,Hermosa Valley,Hermosa View
ATTACH;FMTTYPE=image/jpeg:https://www.hvpto.com/wp-content/uploads/2018/08/PTC-Week-GND.jpeg
END:VEVENT
BEGIN:VEVENT
DTSTART;VALUE=DATE:20211203
DTEND;VALUE=DATE:20211204
DTSTAMP:20260422T162930
CREATED:20210813T231511Z
LAST-MODIFIED:20211101T173135Z
UID:61235-1638489600-1638575999@www.hvpto.com
SUMMARY:VIEW at VISTA Make Up Picture Day
DESCRIPTION:Missed Picture Day or aren’t happy with your kids’ hair/smile/shirt? Make Up Day at Vista today!
URL:https://www.hvpto.com/event/view-at-vista-make-up-picture-day/
LOCATION:Hermosa Vista School\, 417 25th Street\, Hermosa Beach\, 90254
CATEGORIES:HBCSD,Hermosa View
ATTACH;FMTTYPE=image/jpeg:https://www.hvpto.com/wp-content/uploads/2021/10/Vista-Picture-Day.jpeg
END:VEVENT
BEGIN:VEVENT
DTSTART;VALUE=DATE:20211203
DTEND;VALUE=DATE:20211204
DTSTAMP:20260422T162930
CREATED:20210813T231211Z
LAST-MODIFIED:20210813T231211Z
UID:61233-1638489600-1638575999@www.hvpto.com
SUMMARY:Last Day of 1st Trimester
DESCRIPTION:Friday\, December 3rd is the last day of the 1st Trimester. \nTrimester 2 starts on Monday\, December 6th and runs until March 18th.
URL:https://www.hvpto.com/event/last-day-of-1st-trimester-2/
LOCATION:All District Campuses\, CA\, 90254\, United States
CATEGORIES:HBCSD,Hermosa Valley,Hermosa View
ATTACH;FMTTYPE=image/jpeg:https://www.hvpto.com/wp-content/uploads/2020/08/end-trimester.jpeg
END:VEVENT
BEGIN:VEVENT
DTSTART;VALUE=DATE:20211122
DTEND;VALUE=DATE:20211127
DTSTAMP:20260422T162930
CREATED:20210813T230536Z
LAST-MODIFIED:20210813T230536Z
UID:61232-1637539200-1637971199@www.hvpto.com
SUMMARY:NO SCHOOL - THANKSGIVING WEEK
DESCRIPTION:There are no classes from November 22 – 26. Wishing everyone a very Happy Thanksgiving!
URL:https://www.hvpto.com/event/no-school-thanksgiving-week-2/
LOCATION:All District Campuses\, CA\, 90254\, United States
CATEGORIES:HBCSD,Hermosa Valley,Hermosa View,School Holiday/Closed
ATTACH;FMTTYPE=image/jpeg:https://www.hvpto.com/wp-content/uploads/2018/10/thanksgiving.jpeg
END:VEVENT
BEGIN:VEVENT
DTSTART;VALUE=DATE:20211117
DTEND;VALUE=DATE:20211118
DTSTAMP:20260422T162930
CREATED:20210813T225429Z
LAST-MODIFIED:20211004T225940Z
UID:61229-1637107200-1637193599@www.hvpto.com
SUMMARY:VIEW at VISTA Flag Ceremony (TK-2)
DESCRIPTION:View at Vista will be celebrating our students on during a flag ceremony on November 17th. \nCheck your school communications for times for each grade level.
URL:https://www.hvpto.com/event/view-at-vista-flag-ceremony-tk-2-2/
LOCATION:Hermosa Vista School\, 417 25th Street\, Hermosa Beach\, 90254
CATEGORIES:HBCSD,Hermosa View
ATTACH;FMTTYPE=image/jpeg:https://www.hvpto.com/wp-content/uploads/2021/10/View-Flag-Ceremony.jpeg
END:VEVENT
BEGIN:VEVENT
DTSTART;TZID=America/Los_Angeles:20211116T193000
DTEND;TZID=America/Los_Angeles:20211116T210000
DTSTAMP:20260422T162930
CREATED:20210813T211806Z
LAST-MODIFIED:20210930T210912Z
UID:61228-1637091000-1637096400@www.hvpto.com
SUMMARY:HVPTO+HBEF November Joint General Meeting
DESCRIPTION:All are invited to attend the November HVPTO+HBEF Joint Board Meeting of the year! \nPlease join us and learn how our two organizations work together with both schools and HBCSD to enrich the learning environment for all HVS students. \nThe meeting will be held at Hermosa Vista School at 7:30 PM. \nHVPTO Agenda – Avail Day of MeetingHBEF Agenda – Avail Day of MeetingHVPTO – Prior Meeting Minutes – Avail Day of MeetingHVPTO – Financial Highlights – Avail Day of Meeting
URL:https://www.hvpto.com/event/hvptohbef-november-joint-general-meeting-3/
LOCATION:Hermosa Vista School\, 417 25th Street\, Hermosa Beach\, 90254
CATEGORIES:HBEF,Hermosa Valley,Hermosa View,HVPTO,Meeting
ATTACH;FMTTYPE=image/jpeg:https://www.hvpto.com/wp-content/uploads/2021/09/JointGeneralVista.jpeg
END:VEVENT
BEGIN:VEVENT
DTSTART;VALUE=DATE:20211111
DTEND;VALUE=DATE:20211112
DTSTAMP:20260422T162930
CREATED:20210813T210055Z
LAST-MODIFIED:20210813T210055Z
UID:61227-1636588800-1636675199@www.hvpto.com
SUMMARY:NO SCHOOL - VETERANS' DAY
DESCRIPTION:There are no classes on November 11th in honor of Veterans’ Day.
URL:https://www.hvpto.com/event/no-school-veterans-day-5/
LOCATION:All District Campuses\, CA\, 90254\, United States
CATEGORIES:HBCSD,Hermosa Valley,Hermosa View,School Holiday/Closed
ATTACH;FMTTYPE=image/jpeg:https://www.hvpto.com/wp-content/uploads/2018/08/vetday.jpeg
END:VEVENT
BEGIN:VEVENT
DTSTART;TZID=America/Los_Angeles:20211110T180000
DTEND;TZID=America/Los_Angeles:20211110T220000
DTSTAMP:20260422T162930
CREATED:20210812T232012Z
LAST-MODIFIED:20210830T182307Z
UID:61226-1636567200-1636581600@www.hvpto.com
SUMMARY:HBCSD November School Board Meeting
DESCRIPTION:The Hermosa Beach City School District is holding its monthly School Board meeting on Wednesday\, November 10th at 6:00pm (Closed Session starts at 5pm). \nMeetings are held at Hermosa Beach City Council Chambers\, located at 1315 Valley Drive\, Hermosa Beach\, but are subject to change\, especially until COVID restrictions are lifted. These meetings are open\, and the public is welcome to attend. \nThe school board meetings are broadcast live on Spectrum Cable Channel 8 and on Frontier Channel 31\, as well as the District’s YouTube channel. You may also view the school board meetings live online on the City of Hermosa Beach’s website.  Click links below to view the meeting. \nPlease visit HBCSD to learn more. \nMeeting Agenda / Public CommentWatch on YouTubeWatch on City Website
URL:https://www.hvpto.com/event/hbcsd-november-school-board-meeting-3/
LOCATION:Hermosa Beach City Council Chambers\, 1315 Valley Drive\, Hermosa Beach\, CA\, 90245\, United States
CATEGORIES:HBCSD,Hermosa Valley,Hermosa View,Meeting
ATTACH;FMTTYPE=image/jpeg:https://www.hvpto.com/wp-content/uploads/2018/08/SBM-EVENT.jpeg
END:VEVENT
BEGIN:VEVENT
DTSTART;VALUE=DATE:20211108
DTEND;VALUE=DATE:20211116
DTSTAMP:20260422T162930
CREATED:20210824T204016Z
LAST-MODIFIED:20211108T154711Z
UID:61225-1636329600-1637020799@www.hvpto.com
SUMMARY:{pages} Book Fair
DESCRIPTION:This year we have partnered with  to fundraise for our HVS libraries!\n\nThe fundraiser (in-person and online) will run from Monday 11/8 until Monday 11/15.\n\nFor a chance to win prizes from Sugar Dayne\, Vanilla Bake Shop and Uncorked\, stop by  during these two special events just for our HVS schools:\n– Nov 8: Kickoff with Mrs. Meyers! 3:30-6pm\n– Nov 15: Parents Night! 6-8pm\n\nQuestions: Veronica Gathercole
URL:https://www.hvpto.com/event/book-fair/
LOCATION:{pages}\, 904 Manhattan Ave\, Manhattan Beach\, CA\, 90266\, United States
CATEGORIES:Community,FUNraiser,HBCSD,Hermosa Valley,Hermosa View,HVPTO,Parents' Night Out
ATTACH;FMTTYPE=image/jpeg:https://www.hvpto.com/wp-content/uploads/2021/08/Pages-Book-Fair.jpg
END:VEVENT
BEGIN:VEVENT
DTSTART;VALUE=DATE:20211101
DTEND;VALUE=DATE:20211202
DTSTAMP:20260422T162930
CREATED:20210813T230044Z
LAST-MODIFIED:20211105T184619Z
UID:61231-1635724800-1638403199@www.hvpto.com
SUMMARY:HBEF's Gum Tree Santa Photos
DESCRIPTION:Head over to our friends at HBEF.org to learn about 2021 Santa Photos sponsored by Gum Tree Café & Shop or click below for the event flyer! \nVisit HBEFFlyer
URL:https://www.hvpto.com/event/hbefs-gum-tree-santa-photos/
CATEGORIES:Community,FUNraiser,HBEF,Hermosa Valley,Hermosa View
ATTACH;FMTTYPE=image/jpeg:https://www.hvpto.com/wp-content/uploads/2020/11/Santa-Photos-2020.jpg
END:VEVENT
BEGIN:VEVENT
DTSTART;VALUE=DATE:20211101
DTEND;VALUE=DATE:20211106
DTSTAMP:20260422T162930
CREATED:20210812T231605Z
LAST-MODIFIED:20210812T231605Z
UID:61224-1635724800-1636156799@www.hvpto.com
SUMMARY:Operation Gratitude Candy Drive
DESCRIPTION:HVPTO is proud to again join Operation Gratitude in collecting leftover Halloween Candy for our Troops. \nThis year HVPTO has been partnered with a local National Guard unit – we will deliver all the candy you don’t want for our local soldiers to enjoy! \nPlease place all individually wrapped candy you wish to donate in a sealed Ziploc-style bag and drop off at the drop boxes at either school campus.
URL:https://www.hvpto.com/event/operation-gratitude-candy-drive/
LOCATION:All District Campuses\, CA\, 90254\, United States
CATEGORIES:Charity Drive,Community,Hermosa Valley,Hermosa View,HVPTO
END:VEVENT
BEGIN:VEVENT
DTSTART;TZID=America/Los_Angeles:20211029T163000
DTEND;TZID=America/Los_Angeles:20211029T200000
DTSTAMP:20260422T162930
CREATED:20210811T215754Z
LAST-MODIFIED:20210811T215754Z
UID:61223-1635525000-1635537600@www.hvpto.com
SUMMARY:HVPTO Halloween Carnival
DESCRIPTION:Our spookiest (and most fun-filled) FUNraiser of the year! \nCome on out in your best costume and join in the fun at annual HVPTO’s Halloween Carnival. \nDon’t forget to buy your raffle tickets leading up to the events and cross your fingers to win one of the many awesome prizes! \nKeep an eye on your Surf Report to learn about everything Carnival related! \nCARNIVAL CENTRAL (Not Yet Available)
URL:https://www.hvpto.com/event/hvpto-halloween-carnival-4/
LOCATION:Hermosa Valley School\, 1645 Valley Drive\, Hermosa Beach\, CA\, 90254\, United States
CATEGORIES:Community,FUNraiser,HBCSD,Hermosa Valley,Hermosa View,HVPTO,Pitch In
ATTACH;FMTTYPE=image/jpeg:https://www.hvpto.com/wp-content/uploads/2018/07/HALCarn_Raf-GND.jpeg
END:VEVENT
BEGIN:VEVENT
DTSTART;VALUE=DATE:20211029
DTEND;VALUE=DATE:20211030
DTSTAMP:20260422T162930
CREATED:20210809T223628Z
LAST-MODIFIED:20211015T174644Z
UID:61222-1635465600-1635551999@www.hvpto.com
SUMMARY:Pumpkin Carving Contest
DESCRIPTION:Show off some artistic skills with our annual Pumpkin Carving Contests. \nDrop entries off to Valley by 8:30am for judging. They’ll all be ready to go back home at the end of school.
URL:https://www.hvpto.com/event/pumpkin-carving-contest/
LOCATION:Hermosa Valley School\, 1645 Valley Drive\, Hermosa Beach\, CA\, 90254\, United States
CATEGORIES:Hermosa Valley,Hermosa View,HVPTO
ATTACH;FMTTYPE=image/jpeg:https://www.hvpto.com/wp-content/uploads/2018/08/PumpValley.jpeg
END:VEVENT
BEGIN:VEVENT
DTSTART;TZID=America/Los_Angeles:20211027T170000
DTEND;TZID=America/Los_Angeles:20211027T183000
DTSTAMP:20260422T162930
CREATED:20210929T171733Z
LAST-MODIFIED:20211022T212905Z
UID:61931-1635354000-1635359400@www.hvpto.com
SUMMARY:HBCSD State of Education
DESCRIPTION:Hermosa Beach City School District is holding it annual State of Education Address on Wednesday\, October 27th at 5:00 PM. \nThis year’s theme\, “What is Thrive K-Life?” will explore Hermosa’s signature programs and the importance of a small school district experience. \nBe on the look out for more information from the District! \nClick below to choose your preferred way to watch on-line. \nWatch on YouTubeWatch on City Website
URL:https://www.hvpto.com/event/hbcsd-state-of-education-2/
LOCATION:Online / TV
CATEGORIES:HBCSD,Hermosa Valley,Hermosa View,Meeting
ATTACH;FMTTYPE=image/jpeg:https://www.hvpto.com/wp-content/uploads/2018/09/District-Logo-Square.jpeg
END:VEVENT
BEGIN:VEVENT
DTSTART;VALUE=DATE:20211025
DTEND;VALUE=DATE:20211030
DTSTAMP:20260422T162930
CREATED:20210809T223500Z
LAST-MODIFIED:20210809T223500Z
UID:61221-1635120000-1635551999@www.hvpto.com
SUMMARY:Red Ribbon Week
DESCRIPTION:Living a healthy lifestyle\, coupled with making mindful choices is the District-wide focus for HBCSD’s Red Ribbn Week! \nCheck your Surf Report for information on Spirit Days and other activities!
URL:https://www.hvpto.com/event/red-ribbon-week-3/
LOCATION:All District Campuses\, CA\, 90254\, United States
CATEGORIES:Community,HBCSD,Hermosa Valley,Hermosa View
ATTACH;FMTTYPE=image/jpeg:https://www.hvpto.com/wp-content/uploads/2018/10/RedRibbonWeek.jpeg
END:VEVENT
BEGIN:VEVENT
DTSTART;TZID=America/Los_Angeles:20211024T080000
DTEND;TZID=America/Los_Angeles:20211024T120000
DTSTAMP:20260422T162930
CREATED:20210809T223307Z
LAST-MODIFIED:20210809T223307Z
UID:61220-1635062400-1635076800@www.hvpto.com
SUMMARY:Skechers Pier-to-Pier Friendship Walk Supporting HBEF
DESCRIPTION:Please visit hbef.org for more information or click below to Register. \nClick “Education\,” then “Join a Team” to find your Teacher’s team.  And Remember to select “Hermosa Beach Education Foundation” when asked who you are fundraising for! \nRegister Here!
URL:https://www.hvpto.com/event/skechers-pier-to-pier-friendship-walk-supporting-hbef-5/
LOCATION:Manhattan Beach Pier\, 2 Manhattan Beach Blvd\, Manhattan Beach\, CA\, 90266\, United States
CATEGORIES:HBEF,Hermosa Valley,Hermosa View
ATTACH;FMTTYPE=image/jpeg:https://www.hvpto.com/wp-content/uploads/2021/08/2021-Skechers.jpeg
END:VEVENT
BEGIN:VEVENT
DTSTART;VALUE=DATE:20211020
DTEND;VALUE=DATE:20211021
DTSTAMP:20260422T162930
CREATED:20210809T221341Z
LAST-MODIFIED:20211004T225751Z
UID:61218-1634688000-1634774399@www.hvpto.com
SUMMARY:VIEW at VISTA Flag Ceremony (TK-2)
DESCRIPTION:View at Vista will be celebrating our students with their first flag ceremony of the year. Check your school communiations for times for each grade level.
URL:https://www.hvpto.com/event/view-at-vista-flag-ceremony-tk-2/
LOCATION:Hermosa Vista School\, 417 25th Street\, Hermosa Beach\, 90254
CATEGORIES:HBCSD,Hermosa View
ATTACH;FMTTYPE=image/jpeg:https://www.hvpto.com/wp-content/uploads/2021/10/View-Flag-Ceremony.jpeg
END:VEVENT
BEGIN:VEVENT
DTSTART;TZID=America/Los_Angeles:20211019T183000
DTEND;TZID=America/Los_Angeles:20211019T200000
DTSTAMP:20260422T162930
CREATED:20211007T222647Z
LAST-MODIFIED:20211007T222647Z
UID:62078-1634668200-1634673600@www.hvpto.com
SUMMARY:SBFC Speaker Series: Supporting Our Children During the COVID-19 Pandemic
DESCRIPTION:The next SBFC Speaker Series event “Supporting Our Children During the COVID-19 Pandemic” with David J. Schonfeld will take place virtually on Ocotber 19\, 2021 from 6:30 – 8 pm.\n\nTo register click HERE.\n\nThis session will provide practical advice to parents and other caregivers on how to help our children cope with persistent adjustment difficulties and grief associated with the pandemic. Common adjustment difficulties that are most likely to be seen at this point in the pandemic and practical strategies to provide assistance and support will be reviewed. The distinction between grief and loss\, common during this pandemic\, and trauma will be discussed; free resources from the National Center for School Crisis and Bereavement and the Coalition to Support Grieving Students to address these challenges will be highlighted. The session will underscore the need for self-care among adults. Time will be devoted to questions and discussion. Together\, we will consider how best to promote the recovery and continued adaptation of children and ourselves.
URL:https://www.hvpto.com/event/sbfc-speaker-series-supporting-our-children-during-the-covid-19-pandemic/
LOCATION:Zoom
CATEGORIES:Beach Cities Health District,HBCSD,HBEF,Hermosa Valley,Hermosa View,HVPTO,Meeting,South Bay Families Connected
ATTACH;FMTTYPE=image/jpeg:https://www.hvpto.com/wp-content/uploads/2021/10/social_FCSS_schonfeld.jpg
ORGANIZER;CN="South Bay Families Connected":MAILTO:SouthBayFamiliesConnected@gmail.com
END:VEVENT
BEGIN:VEVENT
DTSTART;TZID=America/Los_Angeles:20211014T180000
DTEND;TZID=America/Los_Angeles:20211014T200000
DTSTAMP:20260422T162930
CREATED:20210809T221029Z
LAST-MODIFIED:20211004T154119Z
UID:61217-1634234400-1634241600@www.hvpto.com
SUMMARY:New Family Welcome Mixer
DESCRIPTION:Calling all parents new to Hermosa Beach schools: whether you have a TK/Kinder\, are new to the schools with a middle schooler and everyone in between\, come meet your fellow newbies! \nThis is your opportunity to meet new parents like yourself & speak to parents from both HVPTO & HBEF boards. Have a bite to eat\, a cocktail & learn how you can get involved & help make a difference for our kids.\n\nQuestions: Diana Charlton\n\n#poweredbyHVPTO #brighterbyHBEF
URL:https://www.hvpto.com/event/new-family-welcome-mixer/
LOCATION:Decadence\, 1332 Hermosa Ave\, Hermosa Beach\, CA\, 90254\, United States
CATEGORIES:HBEF,Hermosa Valley,Hermosa View,HVPTO,Meeting,Parents' Night Out
ATTACH;FMTTYPE=image/jpeg:https://www.hvpto.com/wp-content/uploads/2019/09/newfamilymixer.jpeg
END:VEVENT
END:VCALENDAR